Workbook
Name DstHours: Engine!$B$9
Name DstRule: Engine!$B$5
Name SelectedCity: 'My Schedule'!$B$3
Name StdOffset: Engine!$B$4

Sheet My Schedule
A1: The 24-hour ICBPHE Conference, October 29-30, 2026 | D1: the conference where the sun never sets
A3: Pick a city | B3: Amsterdam, Netherlands | C3: Column F will show when each session happens on your clock, daylight saving included.
A4: Clock | B4: 24-hour
A5: Your zone | B5: =IF(ISNA(Engine!$B$3),"Pick a city from the drop-down in B3.","UTC"&IF(Engine!$B$4<0,"-","+")&TEXT(INT(ABS(Engine!$B$4)),"0")&":"&TEXT(ROUND(MOD(ABS(Engine!$B$4),1)*60,0),"00")&" standard"&" | daylight saving: "&Engine!$B$8&" | during this conference you are on UTC"&IF((Engine!$B$4+IF(Engine!$F$24,Engine!$B$9,0))<0,"-","+")&TEXT(INT(ABS(Engine!$B$4+IF(Engine!$F$24,Engine!$B$9,0))),"0")&":"&TEXT(ROUND(MOD(ABS(Engine!$B$4+IF(Engine!$F$24,Engine!$B$9,0)),1)*60,0),"00")) -> UTC+1:00 standard | daylight saving: European Union / UK | during this conference you are on UTC+1:00
A6: Heads up | B6: =IF(ISNA(Engine!$B$3),"",IF(Engine!$B$6="","",Engine!$B$6)) -> 0
A7: Zoom rooms | B7: Track A | C7: Track B | D7: Track C | E7: Track D
A8: Session | F8: Time in your city
A9: ='Program (UTC)'!$D2 -> 1A-1 | B9: 1 Lydia Lau | C9: 29 Anshu | D9: 57 Hassan Ketaneh | E9: =IF('Program (UTC)'!$H2="","",IF(Engine!$U24="",'Program (UTC)'!$H2,HYPERLINK(Engine!$U24,'Program (UTC)'!$H2))) | F9: =IF(ISNA(Engine!$B$3),"select a city",Engine!$L24&Engine!$J24&"-"&Engine!$K24&Engine!$M24) -> Thu 29 Oct 12:00-12:30
A10: ='Program (UTC)'!$D3 -> 1A-2 | B10: 2 Sandra Jaramillo Rincon | C10: 30 Amy Colcher | D10: 58 Alexandre Moura | E10: =IF('Program (UTC)'!$H3="","",IF(Engine!$U25="",'Program (UTC)'!$H3,HYPERLINK(Engine!$U25,'Program (UTC)'!$H3))) | F10: =IF(ISNA(Engine!$B$3),"select a city",Engine!$L25&Engine!$J25&" - "&Engine!$K25&Engine!$M25) -> 12:40 - 13:10
A11: ='Program (UTC)'!$D4 -> 1A-3 | B11: 3 Abdul Razaque Shaikh | C11: 31 Vidya Laloo | D11: 59 Alexandre Moura | F11: =IF(ISNA(Engine!$B$3),"select a city",Engine!$L26&Engine!$J26&" - "&Engine!$K26&Engine!$M26) -> 13:20 - 13:50
A12: ='Program (UTC)'!$D5 -> Keynote | B12: =IF(Links!$B$15<>"",HYPERLINK(Links!$B$15,'Program (UTC)'!$I5&" (Track A)"),IF(Links!$B$6="",'Program (UTC)'!$I5&" (all tracks, Zoom room A)",HYPERLINK(Links!$B$6,'Program (UTC)'!$I5&" (all tracks, Zoom room A)"))) -> Dr Mabel Yap (Track A) | F12: =IF(ISNA(Engine!$B$3),"select a city",Engine!$L27&Engine!$J27&" - "&Engine!$K27&Engine!$M27) -> 14:00 - 14:50
A13: ='Program (UTC)'!$D6 -> 1B-1 | B13: 4 Nea Meriranta | C13: 32 Werner Codier | D13: 60 Ylva Holzhausen | E13: 85 Robert Englander | F13: =IF(ISNA(Engine!$B$3),"select a city",Engine!$L28&Engine!$J28&" - "&Engine!$K28&Engine!$M28) -> 15:00 - 15:30
A14: ='Program (UTC)'!$D7 -> 1B-2 | B14: 5 Nea Meriranta | C14: 33 Barbara Butynski | D14: 61 Daniel Nel | E14: 86 Eduardo Morais de Castro | F14: =IF(ISNA(Engine!$B$3),"select a city",Engine!$L29&Engine!$J29&" - "&Engine!$K29&Engine!$M29) -> 15:40 - 16:10
A15: ='Program (UTC)'!$D8 -> 1B-3 | B15: 6 Sergio König | C15: 34 Julien-Carl Phaneuf | D15: 62 Rosalie Kalili | E15: 87 Teri Turner | F15: =IF(ISNA(Engine!$B$3),"select a city",Engine!$L30&Engine!$J30&" - "&Engine!$K30&Engine!$M30) -> 16:20 - 16:50
A16: ='Program (UTC)'!$D9 -> 1B-4 | B16: 7 Anthony Serracino-Inglott | C16: 35 Julien-Carl Phaneuf | D16: 63 Ghaith Al-Eyd | E16: 88 Amanda Finger Stadler | F16: =IF(ISNA(Engine!$B$3),"select a city",Engine!$L31&Engine!$J31&" - "&Engine!$K31&Engine!$M31) -> 17:00 - 17:30
A17: ='Program (UTC)'!$D10 -> Break | F17: =IF(ISNA(Engine!$B$3),"select a city",Engine!$L32&Engine!$J32&" - "&Engine!$K32&Engine!$M32) -> 17:30 - 18:00
A18: ='Program (UTC)'!$D11 -> 2A-1 | B18: 8 Jan Breckwoldt | C18: 36 Holly Caretta-Weyer | D18: 64 Denise Rhoney | F18: =IF(ISNA(Engine!$B$3),"select a city",Engine!$L33&Engine!$J33&" - "&Engine!$K33&Engine!$M33) -> 18:00 - 18:30
A19: ='Program (UTC)'!$D12 -> 2A-2 | B19: 9 Andrew Hall | C19: 37 Holly Caretta-Weyer | D19: 65 Denise Rhoney | F19: =IF(ISNA(Engine!$B$3),"select a city",Engine!$L34&Engine!$J34&" - "&Engine!$K34&Engine!$M34) -> 18:40 - 19:10
A20: ='Program (UTC)'!$D13 -> 2A-3 | B20: 10 Claudia Jaramillo Villegas | C20: 38 Huma Shahzad | D20: 66 Bernardo Faria Levindo | F20: =IF(ISNA(Engine!$B$3),"select a city",Engine!$L35&Engine!$J35&" - "&Engine!$K35&Engine!$M35) -> 19:20 - 19:50
A21: ='Program (UTC)'!$D14 -> Keynote | B21: Dr Eric Holmboe (Track A) | F21: =IF(ISNA(Engine!$B$3),"select a city",Engine!$L36&Engine!$J36&" - "&Engine!$K36&Engine!$M36) -> 20:00 - 20:50
A22: ='Program (UTC)'!$D15 -> 2B-1 | B22: 11 Alina Grabinski | C22: 39 Olivia Stanley | D22: 67 Kimberly Lomis | F22: =IF(ISNA(Engine!$B$3),"select a city",Engine!$L37&Engine!$J37&" - "&Engine!$K37&Engine!$M37) -> 21:00 - 21:30
A23: ='Program (UTC)'!$D16 -> 2B-2 | B23: 12 Mercedes Volpi | C23: 40 Cassidy Calderon | D23: 68 Aleda Chen | F23: =IF(ISNA(Engine!$B$3),"select a city",Engine!$L38&Engine!$J38&" - "&Engine!$K38&Engine!$M38) -> 21:40 - 22:10
A24: ='Program (UTC)'!$D17 -> 2B-3 | B24: 13 Janet Hafler | C24: 41 Katherine Chartier | D24: 69 Margaret Hamilton | F24: =IF(ISNA(Engine!$B$3),"select a city",Engine!$L39&Engine!$J39&" - "&Engine!$K39&Engine!$M39) -> 22:20 - 22:50
A25: ='Program (UTC)'!$D18 -> 2B-4 | B25: 14 María José Lopez | C25: 42 Muhammad Zafar Iqbal | D25: 70 Kiara Torrese | F25: =IF(ISNA(Engine!$B$3),"select a city",Engine!$L40&Engine!$J40&" - "&Engine!$K40&Engine!$M40) -> 23:00 - 23:30
A26: ='Program (UTC)'!$D19 -> Break | F26: =IF(ISNA(Engine!$B$3),"select a city",Engine!$L41&Engine!$J41&" - "&Engine!$K41&Engine!$M41) -> 23:30 - 00:00
A27: ='Program (UTC)'!$D20 -> 3A-1 | B27: 15 Lisa Moores | C27: 43 Roisin O'hare | D27: 71 Mario Augusto Castro | F27: =IF(ISNA(Engine!$B$3),"select a city",Engine!$L42&Engine!$J42&" - "&Engine!$K42&Engine!$M42) -> Fri 30 Oct 00:00 - 00:30
A28: ='Program (UTC)'!$D21 -> 3A-2 | B28: 16 Lisa Moores | C28: 44 Rohami Hadidchi | D28: 72 Carolina Restini | F28: =IF(ISNA(Engine!$B$3),"select a city",Engine!$L43&Engine!$J43&" - "&Engine!$K43&Engine!$M43) -> 00:40 - 01:10
A29: ='Program (UTC)'!$D22 -> 3A-3 | B29: 17 Lisa Moores | C29: 45 Leticia Gingold | D29: 73 Jamiu Busari | F29: =IF(ISNA(Engine!$B$3),"select a city",Engine!$L44&Engine!$J44&" - "&Engine!$K44&Engine!$M44) -> 01:20 - 01:50
A30: ='Program (UTC)'!$D23 -> Keynote | B30: =IF(Links!$B$17<>"",HYPERLINK(Links!$B$17,'Program (UTC)'!$I23&" (Track A)"),IF(Links!$B$6="",'Program (UTC)'!$I23&" (all tracks, Zoom room A)",HYPERLINK(Links!$B$6,'Program (UTC)'!$I23&" (all tracks, Zoom room A)"))) -> Dr Karen Hauer (Track A) | F30: =IF(ISNA(Engine!$B$3),"select a city",Engine!$L45&Engine!$J45&" - "&Engine!$K45&Engine!$M45) -> 02:00 - 02:50
A31: ='Program (UTC)'!$D24 -> 3B-1 | B31: 18 Eusang Ahn | C31: 46 Maria Helena Favarato | D31: 74 Roy Khalife | F31: =IF(ISNA(Engine!$B$3),"select a city",Engine!$L46&Engine!$J46&" - "&Engine!$K46&Engine!$M46) -> 03:00 - 03:30
A32: ='Program (UTC)'!$D25 -> 3B-2 | B32: 19 Eusang Ahn | C32: 47 Jen-Wen Chen | D32: 75 Roy Khalife | F32: =IF(ISNA(Engine!$B$3),"select a city",Engine!$L47&Engine!$J47&" - "&Engine!$K47&Engine!$M47) -> 03:40 - 04:10
A33: ='Program (UTC)'!$D26 -> 3B-3 | B33: 20 Cai Lingua | C33: 48 Andreea Seritan | D33: 76 Roy Khalife | F33: =IF(ISNA(Engine!$B$3),"select a city",Engine!$L48&Engine!$J48&" - "&Engine!$K48&Engine!$M48) -> 04:20 - 04:50
A34: ='Program (UTC)'!$D27 -> 3B-4 | B34: 21 | C34: 49 Sana tahir | D34: 77 Chien-Yu Jonathan Chen | F34: =IF(ISNA(Engine!$B$3),"select a city",Engine!$L49&Engine!$J49&" - "&Engine!$K49&Engine!$M49) -> 05:00 - 05:30
A35: ='Program (UTC)'!$D28 -> Break | F35: =IF(ISNA(Engine!$B$3),"select a city",Engine!$L50&Engine!$J50&" - "&Engine!$K50&Engine!$M50) -> 05:30 - 06:00
A36: ='Program (UTC)'!$D29 -> 4A-1 | B36: 22 Eng Koon Ong | C36: 50 Orit Karniel--Miller | D36: 78 Jessica Meekins | F36: =IF(ISNA(Engine!$B$3),"select a city",Engine!$L51&Engine!$J51&" - "&Engine!$K51&Engine!$M51) -> 06:00 - 06:30
A37: ='Program (UTC)'!$D30 -> 4A-2 | B37: 23 Dilnaz Temirkysy | C37: 51 Dagmar Brislinger | D37: 79 Sunanda Gupta | F37: =IF(ISNA(Engine!$B$3),"select a city",Engine!$L52&Engine!$J52&" - "&Engine!$K52&Engine!$M52) -> 06:40 - 07:10
A38: ='Program (UTC)'!$D31 -> 4A-3 | B38: 24 Zakia Dimassi | C38: 52 Dana Tenne-Fishbain | D38: 80 Rooma Panchmatia | F38: =IF(ISNA(Engine!$B$3),"select a city",Engine!$L53&Engine!$J53&" - "&Engine!$K53&Engine!$M53) -> 07:20 - 07:50
A39: ='Program (UTC)'!$D32 -> Keynote | B39: =IF(Links!$B$18<>"",HYPERLINK(Links!$B$18,'Program (UTC)'!$I32&" (Track A)"),IF(Links!$B$6="",'Program (UTC)'!$I32&" (all tracks, Zoom room A)",HYPERLINK(Links!$B$6,'Program (UTC)'!$I32&" (all tracks, Zoom room A)"))) -> Dr Olle ten Cate (Track A) | F39: =IF(ISNA(Engine!$B$3),"select a city",Engine!$L54&Engine!$J54&" - "&Engine!$K54&Engine!$M54) -> 08:00 - 08:50
A40: ='Program (UTC)'!$D33 -> 4B-1 | B40: 25 Fiona Hughes | C40: 53 Kristina Gottfried | D40: 81 Vinayak Jain | F40: =IF(ISNA(Engine!$B$3),"select a city",Engine!$L55&Engine!$J55&" - "&Engine!$K55&Engine!$M55) -> 09:00 - 09:30
A41: ='Program (UTC)'!$D34 -> 4B-2 | B41: 26 Ankit Chandra | C41: 54 Wilma Kelijer | D41: 82 Petra Anders | F41: =IF(ISNA(Engine!$B$3),"select a city",Engine!$L56&Engine!$J56&" - "&Engine!$K56&Engine!$M56) -> 09:40 - 10:10
A42: ='Program (UTC)'!$D35 -> 4B-3 | B42: 27 Gersten Jonker | C42: 55 Annalena Kolb | D42: 83 Siobhan Fitzpatrick | F42: =IF(ISNA(Engine!$B$3),"select a city",Engine!$L57&Engine!$J57&" - "&Engine!$K57&Engine!$M57) -> 10:20 - 10:50
A43: ='Program (UTC)'!$D36 -> 4B-4 | B43: 28 Robert Favier | C43: 56 Astrid Czock | D43: 84 Chien-Yu Jonathan Chen | F43: =IF(ISNA(Engine!$B$3),"select a city",Engine!$L58&Engine!$J58&" - "&Engine!$K58&Engine!$M58) -> 11:00 - 11:30
A45: Shaded blue = the session lands between 23:00 and 05:00 on your clock. Amber = keynote. Grey = break.
A46: Times are calculated from the UTC programme, so each city's daylight-saving rule is applied on the day - including countries that switch part-way through the conference.

Sheet Links
A1: Zoom rooms and abstract links
A2: Paste each URL once, in column C or D below. The session numbers on My Schedule turn into clickable links automatically. Leave a cell empty and that number simply stays plain text.
A4: Zoom rooms
A5: Track | B5: Zoom URL
A6: Track A | B6: https://us06web.zoom.us/j/83328044957?pwd=aZ7BPnByhyz0PAbDZVePTNA8Lx0aeS.1
A7: Track B | B7: https://us06web.zoom.us/j/83584043063?pwd=jCtglL3abPJjT8G7hkqM0bZcCens5V.1
A8: Track C | B8: https://us06web.zoom.us/j/82664554252?pwd=3w0yR8wFzav06Rgnxo87j3FZVtcKoH.1
A9: Track D | B9: https://us06web.zoom.us/j/89027205538?pwd=OImSBiaCEAgADybEUCETlCL250EPBS.1
A10: Keynotes all use Zoom room A, exactly as in the original sheet.
A12: Keynote abstracts
A13: Recovered from the V3 workbook - these were the only links it actually contained.
A14: Keynote | B14: Abstract URL
A15: Dr Mabel Yap | B15: https://docs.google.com/document/d/1tCU4lj82SkaB-l9-qoiTatDwwGp6qc-x4jbUuTcIDLI/edit?tab=t.0
A16: Dr Eric Holmboe | B16: https://docs.google.com/document/d/1cjM_RuWsqvHrAakzlhNa_GOIxrHkuwZyY5Oo3CEtmZE/edit?tab=t.0
A17: Dr Karen Hauer | B17: https://docs.google.com/document/d/1K3Wjndl5KC7a6iaqnRhVYNxOiFowiS2zSza7W6MlX4c/edit?tab=t.0
A18: Dr Olle ten Cate | B18: https://docs.google.com/document/d/1cZ1gTMq8sXE12ysvtFsVA2-4BmbkRFtWxGL7Q9tn8XI/edit?tab=t.0

Sheet Cities
A1: Cities - add your own at the bottom, then pick it on the My Schedule tab
A2: Standard offset is the winter / non-daylight offset in hours (decimal: 5.5 means UTC+5:30). The DST rule column must match a Rule ID on the DST Rules tab.
A4: City | B4: Country / region | C4: Standard offset (h) | D4: DST rule | E4: Note | F4: IANA time zone
A5: Abu Dhabi, United Arab Emirates | B5: United Arab Emirates | C5: 4 | D5: NONE | F5: Asia/Dubai
A6: Abuja, Nigeria | B6: Nigeria | C6: 1 | D6: NONE | F6: Africa/Lagos
A7: Accra, Ghana | B7: Ghana | C7: 0 | D7: NONE | F7: Africa/Accra
A8: Addis Ababa, Ethiopia | B8: Ethiopia | C8: 3 | D8: NONE | F8: Africa/Addis_Ababa
A9: Adelaide, Australia | B9: Australia | C9: 9.5 | D9: AU | F9: Australia/Adelaide
A10: Albuquerque, USA | B10: USA | C10: -7 | D10: US | F10: America/Denver
A11: Algiers, Algeria | B11: Algeria | C11: 1 | D11: NONE | F11: Africa/Algiers
A12: Almaty, Kazakhstan | B12: Kazakhstan | C12: 5 | D12: NONE | F12: Asia/Almaty
A13: Amman, Jordan | B13: Jordan | C13: 3 | D13: NONE | F13: Asia/Amman
A14: Amsterdam, Netherlands | B14: Netherlands | C14: 1 | D14: EU | F14: Europe/Amsterdam
A15: Anchorage, Alaska, USA | B15: Alaska, USA | C15: -9 | D15: US | F15: America/Anchorage
A16: Apia, Samoa | B16: Samoa | C16: 13 | D16: NONE | F16: Pacific/Apia
... A38: Buenos Aires, Argentina | B38: Argentina | C38: -3 | D38: NONE | F38: America/Argentina/Buenos_Aires
A39: Cairo, Egypt | B39: Egypt | C39: 2 | D39: EG | E39: Egypt's DST ends on the last Thursday of October at midnight. | F39: Africa/Cairo
A40: Calgary, Canada | B40: Canada | C40: -6 | D40: NONE | E40: Alberta is on permanent daylight time (UTC-6) from March 2026. | F40: America/Edmonton
A41: Canberra, Australia | B41: Australia | C41: 10 | D41: AU | F41: Australia/Sydney
A42: Cape Town, South Africa | B42: South Africa | C42: 2 | D42: NONE | F42: Africa/Johannesburg
A43: Caracas, Venezuela | B43: Venezuela | C43: -4 | D43: NONE | F43: America/Caracas
A44: Casablanca, Morocco | B44: Morocco | C44: 1 | D44: NONE | E44: CHECK: Morocco is UTC+1 but moves to UTC+0 during Ramadan. Verify by hand if the event falls in Ramadan. | F44: Africa/Casablanca
A45: Chapel Hill, North Carolina, USA | B45: North Carolina, USA | C45: -5 | D45: US | F45: America/New_York
A46: Charlotte, USA | B46: USA | C46: -5 | D46: US | F46: America/New_York
A47: Chennai, India | B47: India | C47: 5.5 | D47: NONE | F47: Asia/Kolkata
A48: Chicago, USA | B48: USA | C48: -6 | D48: US | F48: America/Chicago
A49: Christchurch, New Zealand | B49: New Zealand | C49: 12 | D49: NZ | F49: Pacific/Auckland
A50: Cleveland, USA | B50: USA | C50: -5 | D50: US | F50: America/New_York
A51: Colombo, Sri Lanka | B51: Sri Lanka | C51: 5.5 | D51: NONE | F51: Asia/Colombo
A52: Copenhagen, Denmark | B52: Denmark | C52: 1 | D52: EU | F52: Europe/Copenhagen
A53: Dakar, Senegal | B53: Senegal | C53: 0 | D53: NONE | F53: Africa/Dakar
A54: Dallas, USA | B54: USA | C54: -6 | D54: US | F54: America/Chicago
A55: Dar es Salaam, Tanzania | B55: Tanzania | C55: 3 | D55: NONE | F55: Africa/Dar_es_Salaam
A56: Darwin, Australia | B56: Australia | C56: 9.5 | D56: NONE | F56: Australia/Darwin
... A63: Edinburgh, United Kingdom | B63: United Kingdom | C63: 0 | D63: EU | F63: Europe/London
A64: Edmonton, Canada | B64: Canada | C64: -6 | D64: NONE | E64: Alberta is on permanent daylight time (UTC-6) from March 2026. | F64: America/Edmonton
A65: Gaborone, Botswana | B65: Botswana | C65: 2 | D65: NONE | F65: Africa/Gaborone
A66: Geneva, Switzerland | B66: Switzerland | C66: 1 | D66: EU | F66: Europe/Zurich
A67: Guam, Guam | B67: Guam | C67: 10 | D67: NONE | F67: Pacific/Guam
A68: Guangzhou, China | B68: China | C68: 8 | D68: NONE | F68: Asia/Shanghai
A69: Guatemala City, Guatemala | B69: Guatemala | C69: -6 | D69: NONE | F69: America/Guatemala
A70: Halifax, Canada | B70: Canada | C70: -4 | D70: US | F70: America/Halifax
A71: Hanoi, Vietnam | B71: Vietnam | C71: 7 | D71: NONE | F71: Asia/Ho_Chi_Minh
A72: Harare, Zimbabwe | B72: Zimbabwe | C72: 2 | D72: NONE | F72: Africa/Harare
A73: Havana, Cuba | B73: Cuba | C73: -5 | D73: CU | F73: America/Havana
A74: Helsinki, Finland | B74: Finland | C74: 2 | D74: EU | F74: Europe/Helsinki
A75: Ho Chi Minh City, Vietnam | B75: Vietnam | C75: 7 | D75: NONE | F75: Asia/Ho_Chi_Minh
A76: Hobart, Australia | B76: Australia | C76: 10 | D76: AU | F76: Australia/Hobart
... A85: Jeddah, Saudi Arabia | B85: Saudi Arabia | C85: 3 | D85: NONE | F85: Asia/Riyadh
A86: Jerusalem, Israel | B86: Israel | C86: 2 | D86: IL | E86: Israel starts DST on the last Friday of March. | F86: Asia/Jerusalem
A87: Johannesburg, South Africa | B87: South Africa | C87: 2 | D87: NONE | F87: Africa/Johannesburg
A88: Kabul, Afghanistan | B88: Afghanistan | C88: 4.5 | D88: NONE | F88: Asia/Kabul
A89: Kampala, Uganda | B89: Uganda | C89: 3 | D89: NONE | F89: Africa/Kampala
A90: Kansas City, USA | B90: USA | C90: -6 | D90: US | F90: America/Chicago
A91: Karachi, Pakistan | B91: Pakistan | C91: 5 | D91: NONE | F91: Asia/Karachi
A92: Kathmandu, Nepal | B92: Nepal | C92: 5.75 | D92: NONE | F92: Asia/Kathmandu
A93: Khartoum, Sudan | B93: Sudan | C93: 2 | D93: NONE | F93: Africa/Khartoum
A94: Kigali, Rwanda | B94: Rwanda | C94: 2 | D94: NONE | F94: Africa/Kigali
A95: Kingston, Jamaica | B95: Jamaica | C95: -5 | D95: NONE | F95: America/Jamaica
A96: Kolkata, India | B96: India | C96: 5.5 | D96: NONE | F96: Asia/Kolkata
A97: Kuala Lumpur, Malaysia | B97: Malaysia | C97: 8 | D97: NONE | F97: Asia/Kuala_Lumpur
A98: Kuwait City, Kuwait | B98: Kuwait | C98: 3 | D98: NONE | F98: Asia/Kuwait
... A172: Tehran, Iran | B172: Iran | C172: 3.5 | D172: NONE | F172: Asia/Tehran
A173: Tel Aviv, Israel | B173: Israel | C173: 2 | D173: IL | E173: Israel starts DST on the last Friday of March. | F173: Asia/Jerusalem
A174: Tokyo, Japan | B174: Japan | C174: 9 | D174: NONE | F174: Asia/Tokyo
A175: Toronto, Canada | B175: Canada | C175: -5 | D175: US | F175: America/Toronto
A176: Tunis, Tunisia | B176: Tunisia | C176: 1 | D176: NONE | F176: Africa/Tunis
A177: UTC / GMT, Coordinated Universal Time | B177: Coordinated Universal Time | C177: 0 | D177: NONE | F177: UTC
A178: Ulaanbaatar, Mongolia | B178: Mongolia | C178: 8 | D178: NONE | F178: Asia/Ulaanbaatar
A179: Utrecht, Netherlands | B179: Netherlands | C179: 1 | D179: EU | F179: Europe/Amsterdam
A180: Vancouver, Canada | B180: Canada | C180: -7 | D180: NONE | E180: British Columbia is on permanent daylight time (UTC-7) from March 2026. | F180: America/Vancouver
A181: Vienna, Austria | B181: Austria | C181: 1 | D181: EU | F181: Europe/Vienna
A182: Warsaw, Poland | B182: Poland | C182: 1 | D182: EU | F182: Europe/Warsaw
A183: Washington DC, USA | B183: USA | C183: -5 | D183: US | F183: America/New_York
A184: Wellington, New Zealand | B184: New Zealand | C184: 12 | D184: NZ | F184: Pacific/Auckland
A185: Winnipeg, Canada | B185: Canada | C185: -6 | D185: US | F185: America/Winnipeg
A186: Yangon, Myanmar | B186: Myanmar | C186: 6.5 | D186: NONE | F186: Asia/Yangon
A187: Yerevan, Armenia | B187: Armenia | C187: 4 | D187: NONE | F187: Asia/Yerevan
A188: Zagreb, Croatia | B188: Croatia | C188: 1 | D188: EU | F188: Europe/Zagreb
A189: Zurich, Switzerland | B189: Switzerland | C189: 1 | D189: EU | F189: Europe/Zurich

Sheet DST Rules
A1: Daylight saving rules
A2: Each rule says when clocks go forward and back. Weekday: 1=Sun 2=Mon 3=Tue 4=Wed 5=Thu 6=Fri 7=Sat. Nth: 1-4 = that occurrence in the month, 5 = the last one. Shift = days added afterwards. Hour basis: UTC, STD (local standard clock) or DST (local summer clock).
A4: Rule ID | B4: Applies to | C4: DST hours | D4: Start month | E4: Start nth | F4: Start weekday | G4: Start shift | H4: Start hour | I4: Start basis | J4: End month | K4: End nth | L4: End weekday | M4: End shift | N4: End hour | O4: End basis
A5: NONE | B5: No daylight saving | C5: 0 | D5: 0 | E5: 0 | F5: 1 | G5: 0 | H5: 0 | I5: UTC | J5: 0 | K5: 0 | L5: 1 | M5: 0 | N5: 0 | O5: UTC
A6: EU | B6: European Union / UK | C6: 1 | D6: 3 | E6: 5 | F6: 1 | G6: 0 | H6: 1 | I6: UTC | J6: 10 | K6: 5 | L6: 1 | M6: 0 | N6: 1 | O6: UTC
A7: US | B7: United States & Canada | C7: 1 | D7: 3 | E7: 2 | F7: 1 | G7: 0 | H7: 2 | I7: STD | J7: 11 | K7: 1 | L7: 1 | M7: 0 | N7: 2 | O7: DST
A8: AU | B8: Australia (southern states) | C8: 1 | D8: 10 | E8: 1 | F8: 1 | G8: 0 | H8: 2 | I8: STD | J8: 4 | K8: 1 | L8: 1 | M8: 0 | N8: 3 | O8: DST
A9: NZ | B9: New Zealand | C9: 1 | D9: 9 | E9: 5 | F9: 1 | G9: 0 | H9: 2 | I9: STD | J9: 4 | K9: 1 | L9: 1 | M9: 0 | N9: 3 | O9: DST
A10: CL | B10: Chile | C10: 1 | D10: 9 | E10: 1 | F10: 7 | G10: 0 | H10: 24 | I10: STD | J10: 4 | K10: 1 | L10: 7 | M10: 0 | N10: 24 | O10: DST
A11: CU | B11: Cuba | C11: 1 | D11: 3 | E11: 2 | F11: 1 | G11: 0 | H11: 0 | I11: STD | J11: 11 | K11: 1 | L11: 1 | M11: 0 | N11: 1 | O11: DST
A12: IL | B12: Israel | C12: 1 | D12: 3 | E12: 5 | F12: 1 | G12: -2 | H12: 2 | I12: STD | J12: 10 | K12: 5 | L12: 1 | M12: 0 | N12: 2 | O12: DST
A13: LB | B13: Lebanon | C13: 1 | D13: 3 | E13: 5 | F13: 1 | G13: 0 | H13: 0 | I13: STD | J13: 10 | K13: 5 | L13: 1 | M13: 0 | N13: 0 | O13: DST
A14: EG | B14: Egypt | C14: 1 | D14: 4 | E14: 5 | F14: 6 | G14: 0 | H14: 0 | I14: STD | J14: 10 | K14: 5 | L14: 5 | M14: 0 | N14: 24 | O14: DST

Sheet Program (UTC)
A1: Date (UTC) | B1: Start (UTC) | C1: Minutes | D1: Type | E1: Track A | F1: Track B | G1: Track C | H1: Track D | I1: Keynote speaker | J1: Note
A2: 46324 | B2: 0.45833333 | C2: 30 | D2: 1A-1 | E2: 1 | F2: 29 | G2: 57
A3: 46324 | B3: 0.48611111 | C3: 30 | D3: 1A-2 | E3: 2 | F3: 30 | G3: 58
A4: 46324 | B4: 0.51388889 | C4: 30 | D4: 1A-3 | E4: 3 | F4: 31 | G4: 59 | H4: 85
A5: 46324 | B5: 0.54166667 | C5: 50 | D5: Keynote | I5: Dr Mabel Yap | J5: Track A
A6: 46324 | B6: 0.58333333 | C6: 30 | D6: 1B-1 | E6: 4 | F6: 32 | G6: 60
A7: 46324 | B7: 0.61111111 | C7: 30 | D7: 1B-2 | E7: 5 | F7: 33 | G7: 61 | H7: 86
A8: 46324 | B8: 0.63888889 | C8: 30 | D8: 1B-3 | E8: 6 | F8: 24 | G8: 62 | J8: CHECK: source sheet lists 24 in Track B, but 24 is also in Track A and 34 is missing
A9: 46324 | B9: 0.66666667 | C9: 30 | D9: 1B-4 | E9: 7 | F9: 35 | G9: 63 | H9: 87
A10: 46324 | B10: 0.6875 | C10: 30 | D10: Break
A11: 46324 | B11: 0.70833333 | C11: 30 | D11: 2A-1 | E11: 8 | F11: 36 | G11: 64
A12: 46324 | B12: 0.73611111 | C12: 30 | D12: 2A-2 | E12: 9 | F12: 37 | G12: 65
A13: 46324 | B13: 0.76388889 | C13: 30 | D13: 2A-3 | E13: 10 | F13: 38 | G13: 66 | H13: 88
A14: 46324 | B14: 0.79166667 | C14: 50 | D14: Keynote | I14: Dr Eric Holmboe | J14: Track A
A15: 46324 | B15: 0.83333333 | C15: 30 | D15: 2B-1 | E15: 11 | F15: 39 | G15: 67
A16: 46324 | B16: 0.86111111 | C16: 30 | D16: 2B-2 | E16: 12 | F16: 40 | G16: 68 | H16: 89
A17: 46324 | B17: 0.88888889 | C17: 30 | D17: 2B-3 | E17: 13 | F17: 41 | G17: 69 | J17: source sheet had end time before start time; 30 min assumed
A18: 46324 | B18: 0.91666667 | C18: 30 | D18: 2B-4 | E18: 14 | F18: 42 | G18: 70 | H18: 90
A19: 46324 | B19: 0.9375 | C19: 30 | D19: Break
A20: 46324 | B20: 0.95833333 | C20: 30 | D20: 3A-1 | E20: 15 | F20: 43 | G20: 71
A21: 46324 | B21: 0.98611111 | C21: 30 | D21: 3A-2 | E21: 16 | F21: 44 | G21: 72 | H21: 91
A22: 46325 | B22: 0.013888889 | C22: 30 | D22: 3A-3 | E22: 17 | F22: 45 | G22: 73
A23: 46325 | B23: 0.041666667 | C23: 50 | D23: Keynote | I23: Dr Karen Hauer | J23: Track A
A24: 46325 | B24: 0.083333333 | C24: 30 | D24: 3B-1 | E24: 18 | F24: 46 | G24: 74
A25: 46325 | B25: 0.11111111 | C25: 30 | D25: 3B-2 | E25: 19 | F25: 47 | G25: 75 | H25: 92
A26: 46325 | B26: 0.13888889 | C26: 30 | D26: 3B-3 | E26: 20 | F26: 48 | G26: 76 | J26: source sheet had end time before start time; 30 min assumed
A27: 46325 | B27: 0.16666667 | C27: 30 | D27: 3B-4 | E27: 21 | F27: 49 | G27: 77 | H27: 93
A28: 46325 | B28: 0.1875 | C28: 30 | D28: Break
A29: 46325 | B29: 0.20833333 | C29: 30 | D29: 4A-1 | E29: 22 | F29: 50 | G29: 78
A30: 46325 | B30: 0.23611111 | C30: 30 | D30: 4A-2 | E30: 23 | F30: 51 | G30: 79 | H30: 94
A31: 46325 | B31: 0.26388889 | C31: 30 | D31: 4A-3 | E31: 24 | F31: 52 | G31: 80
A32: 46325 | B32: 0.29166667 | C32: 50 | D32: Keynote | I32: Dr Olle ten Cate | J32: Track A
A33: 46325 | B33: 0.33333333 | C33: 30 | D33: 4B-1 | E33: 25 | F33: 53 | G33: 81
A34: 46325 | B34: 0.36111111 | C34: 30 | D34: 4B-2 | E34: 26 | F34: 54 | G34: 82 | H34: 95
A35: 46325 | B35: 0.38888889 | C35: 30 | D35: 4B-3 | E35: 27 | F35: 55 | G35: 83 | J35: source sheet had end time before start time; 30 min assumed
A36: 46325 | B36: 0.41666667 | C36: 30 | D36: 4B-4 | E36: 28 | F36: 56 | G36: 84

Sheet Engine
A1: Selected city | B1: ='My Schedule'!$B$3 -> Amsterdam, Netherlands | D1: Engine - calculated. Nothing here needs editing.
A2: 24-hour clock? | B2: =('My Schedule'!$B$4="24-hour") -> TRUE
A3: City row | B3: =MATCH($B$1,Cities!$A$5:$A$249,0) -> 10
A4: Standard offset (h) | B4: =INDEX(Cities!$C$5:$C$249,$B$3) -> 1
A5: DST rule ID | B5: =INDEX(Cities!$D$5:$D$249,$B$3) -> EU
A6: City note | B6: =INDEX(Cities!$E$5:$E$249,$B$3) -> 0
A7: Rule row | B7: =MATCH($B$5,'DST Rules'!$A$5:$A$14,0) -> 2
A8: Rule name | B8: =INDEX('DST Rules'!$B$5:$B$14,$B$7) -> European Union / UK
A9: DST hours (delta) | B9: =INDEX('DST Rules'!$C$5:$C$14,$B$7) -> 1
A10: Start month | B10: =INDEX('DST Rules'!$D$5:$D$14,$B$7) -> 3
A11: Start nth | B11: =INDEX('DST Rules'!$E$5:$E$14,$B$7) -> 5
A12: Start weekday | B12: =INDEX('DST Rules'!$F$5:$F$14,$B$7) -> 1
A13: Start shift | B13: =INDEX('DST Rules'!$G$5:$G$14,$B$7) -> 0
A14: Start hour | B14: =INDEX('DST Rules'!$H$5:$H$14,$B$7) -> 1
A15: Start basis | B15: =INDEX('DST Rules'!$I$5:$I$14,$B$7) -> UTC
A16: End month | B16: =INDEX('DST Rules'!$J$5:$J$14,$B$7) -> 10
A17: End nth | B17: =INDEX('DST Rules'!$K$5:$K$14,$B$7) -> 5
A18: End weekday | B18: =INDEX('DST Rules'!$L$5:$L$14,$B$7) -> 1
A19: End shift | B19: =INDEX('DST Rules'!$M$5:$M$14,$B$7) -> 0
A20: End hour | B20: =INDEX('DST Rules'!$N$5:$N$14,$B$7) -> 1
A21: End basis | B21: =INDEX('DST Rules'!$O$5:$O$14,$B$7) -> UTC
A23: UTC start | B23: UTC end | C23: Year | D23: DST starts (UTC) | E23: DST ends (UTC) | F23: DST at start? | G23: DST at end? | H23: Local start | I23: Local end | J23: Start text | K23: End text | L23: Date prefix | M23: Clock-change flag | N23: Abstract A | O23: Abstract B | P23: Abstract C | Q23: Abstract D | R23: Link A | S23: Link B | T23: Link C | U23: Link D
A24: ='Program (UTC)'!$A2+'Program (UTC)'!$B2 -> 46324.458 | B24: =A24+'Program (UTC)'!$C2/1440 -> 46324.479 | C24: =YEAR(A24) -> 2026 | D24: =(IF($B$11=5,EOMONTH(DATE($C24,$B$10,1),0)-MOD(WEEKDAY(EOMONTH(DATE($C24,$B$10,1),0),1)-$B$12+7,7),DATE($C24,$B$10,1)+MOD($B$12-WEEKDAY(DATE($C24,$B$10,1),1)+7,7)+7*($B$11-1))+$B$13)+($B$14-IF($B$15="UTC",0,IF($B$15="STD",$B$4,$B$4+$B$9)))/24 -> 46110.042 | E24: =(IF($B$17=5,EOMONTH(DATE($C24,$B$16,1),0)-MOD(WEEKDAY(EOMONTH(DATE($C24,$B$16,1),0),1)-$B$18+7,7),DATE($C24,$B$16,1)+MOD($B$18-WEEKDAY(DATE($C24,$B$16,1),1)+7,7)+7*($B$17-1))+$B$19)+($B$20-IF($B$21="UTC",0,IF($B$21="STD",$B$4,$B$4+$B$9)))/24 -> 46320.042 | F24: =IF($B$5="NONE",FALSE,IF($B$10>$B$16,OR(A24>=D24,A24<E24),AND(A24>=D24,A24<E24))) -> FALSE | G24: =IF($B$5="NONE",FALSE,IF($B$10>$B$16,OR(B24>=D24,B24<E24),AND(B24>=D24,B24<E24))) -> FALSE | H24: =A24+($B$4+IF(F24,$B$9,0))/24 -> 46324.5 | I24: =B24+($B$4+IF(G24,$B$9,0))/24 -> 46324.521 | J24: =IF($B$2,TEXT(HOUR(H24),"00")&":"&TEXT(MINUTE(H24),"00"),TEXT(MOD(HOUR(H24)+11,12)+1,"0")&":"&TEXT(MINUTE(H24),"00")&IF(HOUR(H24)<12," am"," pm")) -> 12:00 | K24: =IF($B$2,TEXT(HOUR(I24),"00")&":"&TEXT(MINUTE(I24),"00"),TEXT(MOD(HOUR(I24)+11,12)+1,"0")&":"&TEXT(MINUTE(I24),"00")&IF(HOUR(I24)<12," am"," pm")) -> 12:30 | L24: =INDEX({"Sun","Mon","Tue","Wed","Thu","Fri","Sat"},WEEKDAY(H24,1))&" "&TEXT(DAY(H24),"0")&" "&INDEX({"Jan","Feb","Mar","Apr","May","Jun","Jul","Aug","Sep","Oct","Nov","Dec"},MONTH(H24))&" " -> Thu 29 Oct | M24: =IF(F24<>G24," (clocks change during this session)","") | N24: =IF('Program (UTC)'!$E2="","",IFERROR(IF(INDEX(Links!#REF!,MATCH('Program (UTC)'!$E2,Links!#REF!,0))="","",INDEX(Links!#REF!,MATCH('Program (UTC)'!$E2,Links!#REF!,0))),"")) | O24: =IF('Program (UTC)'!$F2="","",IFERROR(IF(INDEX(Links!#REF!,MATCH('Program (UTC)'!$F2,Links!#REF!,0))="","",INDEX(Links!#REF!,MATCH('Program (UTC)'!$F2,Links!#REF!,0))),"")) | P24: =IF('Program (UTC)'!$G2="","",IFERROR(IF(INDEX(Links!#REF!,MATCH('Program (UTC)'!$G2,Links!#REF!,0))="","",INDEX(Links!#REF!,MATCH('Program (UTC)'!$G2,Links!#REF!,0))),"")) | Q24: =IF('Program (UTC)'!$H2="","",IFERROR(IF(INDEX(Links!#REF!,MATCH('Program (UTC)'!$H2,Links!#REF!,0))="","",INDEX(Links!#REF!,MATCH('Program (UTC)'!$H2,Links!#REF!,0))),"")) | R24: =IF('Program (UTC)'!$E2="","",IF(N24<>"",N24,IF(Links!$B$6="","",Links!$B$6))) -> https://us06web.zoom.us/j/83328044957?pwd=aZ7BPnByhyz0PAbDZVePTNA8Lx0aeS.1 | S24: =IF('Program (UTC)'!$F2="","",IF(O24<>"",O24,IF(Links!$B$7="","",Links!$B$7))) -> https://us06web.zoom.us/j/83584043063?pwd=jCtglL3abPJjT8G7hkqM0bZcCens5V.1 | T24: =IF('Program (UTC)'!$G2="","",IF(P24<>"",P24,IF(Links!$B$8="","",Links!$B$8))) -> https://us06web.zoom.us/j/82664554252?pwd=3w0yR8wFzav06Rgnxo87j3FZVtcKoH.1 | U24: =IF('Program (UTC)'!$H2="","",IF(Q24<>"",Q24,IF(Links!$B$9="","",Links!$B$9)))
A25: ='Program (UTC)'!$A3+'Program (UTC)'!$B3 -> 46324.486 | B25: =A25+'Program (UTC)'!$C3/1440 -> 46324.507 | C25: =YEAR(A25) -> 2026 | D25: =(IF($B$11=5,EOMONTH(DATE($C25,$B$10,1),0)-MOD(WEEKDAY(EOMONTH(DATE($C25,$B$10,1),0),1)-$B$12+7,7),DATE($C25,$B$10,1)+MOD($B$12-WEEKDAY(DATE($C25,$B$10,1),1)+7,7)+7*($B$11-1))+$B$13)+($B$14-IF($B$15="UTC",0,IF($B$15="STD",$B$4,$B$4+$B$9)))/24 -> 46110.042 | E25: =(IF($B$17=5,EOMONTH(DATE($C25,$B$16,1),0)-MOD(WEEKDAY(EOMONTH(DATE($C25,$B$16,1),0),1)-$B$18+7,7),DATE($C25,$B$16,1)+MOD($B$18-WEEKDAY(DATE($C25,$B$16,1),1)+7,7)+7*($B$17-1))+$B$19)+($B$20-IF($B$21="UTC",0,IF($B$21="STD",$B$4,$B$4+$B$9)))/24 -> 46320.042 | F25: =IF($B$5="NONE",FALSE,IF($B$10>$B$16,OR(A25>=D25,A25<E25),AND(A25>=D25,A25<E25))) -> FALSE | G25: =IF($B$5="NONE",FALSE,IF($B$10>$B$16,OR(B25>=D25,B25<E25),AND(B25>=D25,B25<E25))) -> FALSE | H25: =A25+($B$4+IF(F25,$B$9,0))/24 -> 46324.528 | I25: =B25+($B$4+IF(G25,$B$9,0))/24 -> 46324.549 | J25: =IF($B$2,TEXT(HOUR(H25),"00")&":"&TEXT(MINUTE(H25),"00"),TEXT(MOD(HOUR(H25)+11,12)+1,"0")&":"&TEXT(MINUTE(H25),"00")&IF(HOUR(H25)<12," am"," pm")) -> 12:40 | K25: =IF($B$2,TEXT(HOUR(I25),"00")&":"&TEXT(MINUTE(I25),"00"),TEXT(MOD(HOUR(I25)+11,12)+1,"0")&":"&TEXT(MINUTE(I25),"00")&IF(HOUR(I25)<12," am"," pm")) -> 13:10 | L25: =IF(INT(H25)<>INT(H24),INDEX({"Sun","Mon","Tue","Wed","Thu","Fri","Sat"},WEEKDAY(H25,1))&" "&TEXT(DAY(H25),"0")&" "&INDEX({"Jan","Feb","Mar","Apr","May","Jun","Jul","Aug","Sep","Oct","Nov","Dec"},MONTH(H25))&" ","") | M25: =IF(F25<>G25," (clocks change during this session)","") | N25: =IF('Program (UTC)'!$E3="","",IFERROR(IF(INDEX(Links!#REF!,MATCH('Program (UTC)'!$E3,Links!#REF!,0))="","",INDEX(Links!#REF!,MATCH('Program (UTC)'!$E3,Links!#REF!,0))),"")) | O25: =IF('Program (UTC)'!$F3="","",IFERROR(IF(INDEX(Links!#REF!,MATCH('Program (UTC)'!$F3,Links!#REF!,0))="","",INDEX(Links!#REF!,MATCH('Program (UTC)'!$F3,Links!#REF!,0))),"")) | P25: =IF('Program (UTC)'!$G3="","",IFERROR(IF(INDEX(Links!#REF!,MATCH('Program (UTC)'!$G3,Links!#REF!,0))="","",INDEX(Links!#REF!,MATCH('Program (UTC)'!$G3,Links!#REF!,0))),"")) | Q25: =IF('Program (UTC)'!$H3="","",IFERROR(IF(INDEX(Links!#REF!,MATCH('Program (UTC)'!$H3,Links!#REF!,0))="","",INDEX(Links!#REF!,MATCH('Program (UTC)'!$H3,Links!#REF!,0))),"")) | R25: =IF('Program (UTC)'!$E3="","",IF(N25<>"",N25,IF(Links!$B$6="","",Links!$B$6))) -> https://us06web.zoom.us/j/83328044957?pwd=aZ7BPnByhyz0PAbDZVePTNA8Lx0aeS.1 | S25: =IF('Program (UTC)'!$F3="","",IF(O25<>"",O25,IF(Links!$B$7="","",Links!$B$7))) -> https://us06web.zoom.us/j/83584043063?pwd=jCtglL3abPJjT8G7hkqM0bZcCens5V.1 | T25: =IF('Program (UTC)'!$G3="","",IF(P25<>"",P25,IF(Links!$B$8="","",Links!$B$8))) -> https://us06web.zoom.us/j/82664554252?pwd=3w0yR8wFzav06Rgnxo87j3FZVtcKoH.1 | U25: =IF('Program (UTC)'!$H3="","",IF(Q25<>"",Q25,IF(Links!$B$9="","",Links!$B$9)))
A26: ='Program (UTC)'!$A4+'Program (UTC)'!$B4 -> 46324.514 | B26: =A26+'Program (UTC)'!$C4/1440 -> 46324.535 | C26: =YEAR(A26) -> 2026 | D26: =(IF($B$11=5,EOMONTH(DATE($C26,$B$10,1),0)-MOD(WEEKDAY(EOMONTH(DATE($C26,$B$10,1),0),1)-$B$12+7,7),DATE($C26,$B$10,1)+MOD($B$12-WEEKDAY(DATE($C26,$B$10,1),1)+7,7)+7*($B$11-1))+$B$13)+($B$14-IF($B$15="UTC",0,IF($B$15="STD",$B$4,$B$4+$B$9)))/24 -> 46110.042 | E26: =(IF($B$17=5,EOMONTH(DATE($C26,$B$16,1),0)-MOD(WEEKDAY(EOMONTH(DATE($C26,$B$16,1),0),1)-$B$18+7,7),DATE($C26,$B$16,1)+MOD($B$18-WEEKDAY(DATE($C26,$B$16,1),1)+7,7)+7*($B$17-1))+$B$19)+($B$20-IF($B$21="UTC",0,IF($B$21="STD",$B$4,$B$4+$B$9)))/24 -> 46320.042 | F26: =IF($B$5="NONE",FALSE,IF($B$10>$B$16,OR(A26>=D26,A26<E26),AND(A26>=D26,A26<E26))) -> FALSE | G26: =IF($B$5="NONE",FALSE,IF($B$10>$B$16,OR(B26>=D26,B26<E26),AND(B26>=D26,B26<E26))) -> FALSE | H26: =A26+($B$4+IF(F26,$B$9,0))/24 -> 46324.556 | I26: =B26+($B$4+IF(G26,$B$9,0))/24 -> 46324.576 | J26: =IF($B$2,TEXT(HOUR(H26),"00")&":"&TEXT(MINUTE(H26),"00"),TEXT(MOD(HOUR(H26)+11,12)+1,"0")&":"&TEXT(MINUTE(H26),"00")&IF(HOUR(H26)<12," am"," pm")) -> 13:20 | K26: =IF($B$2,TEXT(HOUR(I26),"00")&":"&TEXT(MINUTE(I26),"00"),TEXT(MOD(HOUR(I26)+11,12)+1,"0")&":"&TEXT(MINUTE(I26),"00")&IF(HOUR(I26)<12," am"," pm")) -> 13:50 | L26: =IF(INT(H26)<>INT(H25),INDEX({"Sun","Mon","Tue","Wed","Thu","Fri","Sat"},WEEKDAY(H26,1))&" "&TEXT(DAY(H26),"0")&" "&INDEX({"Jan","Feb","Mar","Apr","May","Jun","Jul","Aug","Sep","Oct","Nov","Dec"},MONTH(H26))&" ","") | M26: =IF(F26<>G26," (clocks change during this session)","") | N26: =IF('Program (UTC)'!$E4="","",IFERROR(IF(INDEX(Links!#REF!,MATCH('Program (UTC)'!$E4,Links!#REF!,0))="","",INDEX(Links!#REF!,MATCH('Program (UTC)'!$E4,Links!#REF!,0))),"")) | O26: =IF('Program (UTC)'!$F4="","",IFERROR(IF(INDEX(Links!#REF!,MATCH('Program (UTC)'!$F4,Links!#REF!,0))="","",INDEX(Links!#REF!,MATCH('Program (UTC)'!$F4,Links!#REF!,0))),"")) | P26: =IF('Program (UTC)'!$G4="","",IFERROR(IF(INDEX(Links!#REF!,MATCH('Program (UTC)'!$G4,Links!#REF!,0))="","",INDEX(Links!#REF!,MATCH('Program (UTC)'!$G4,Links!#REF!,0))),"")) | Q26: =IF('Program (UTC)'!$H4="","",IFERROR(IF(INDEX(Links!#REF!,MATCH('Program (UTC)'!$H4,Links!#REF!,0))="","",INDEX(Links!#REF!,MATCH('Program (UTC)'!$H4,Links!#REF!,0))),"")) | R26: =IF('Program (UTC)'!$E4="","",IF(N26<>"",N26,IF(Links!$B$6="","",Links!$B$6))) -> https://us06web.zoom.us/j/83328044957?pwd=aZ7BPnByhyz0PAbDZVePTNA8Lx0aeS.1 | S26: =IF('Program (UTC)'!$F4="","",IF(O26<>"",O26,IF(Links!$B$7="","",Links!$B$7))) -> https://us06web.zoom.us/j/83584043063?pwd=jCtglL3abPJjT8G7hkqM0bZcCens5V.1 | T26: =IF('Program (UTC)'!$G4="","",IF(P26<>"",P26,IF(Links!$B$8="","",Links!$B$8))) -> https://us06web.zoom.us/j/82664554252?pwd=3w0yR8wFzav06Rgnxo87j3FZVtcKoH.1 | U26: =IF('Program (UTC)'!$H4="","",IF(Q26<>"",Q26,IF(Links!$B$9="","",Links!$B$9))) -> https://us06web.zoom.us/j/89027205538?pwd=OImSBiaCEAgADybEUCETlCL250EPBS.1
A27: ='Program (UTC)'!$A5+'Program (UTC)'!$B5 -> 46324.542 | B27: =A27+'Program (UTC)'!$C5/1440 -> 46324.576 | C27: =YEAR(A27) -> 2026 | D27: =(IF($B$11=5,EOMONTH(DATE($C27,$B$10,1),0)-MOD(WEEKDAY(EOMONTH(DATE($C27,$B$10,1),0),1)-$B$12+7,7),DATE($C27,$B$10,1)+MOD($B$12-WEEKDAY(DATE($C27,$B$10,1),1)+7,7)+7*($B$11-1))+$B$13)+($B$14-IF($B$15="UTC",0,IF($B$15="STD",$B$4,$B$4+$B$9)))/24 -> 46110.042 | E27: =(IF($B$17=5,EOMONTH(DATE($C27,$B$16,1),0)-MOD(WEEKDAY(EOMONTH(DATE($C27,$B$16,1),0),1)-$B$18+7,7),DATE($C27,$B$16,1)+MOD($B$18-WEEKDAY(DATE($C27,$B$16,1),1)+7,7)+7*($B$17-1))+$B$19)+($B$20-IF($B$21="UTC",0,IF($B$21="STD",$B$4,$B$4+$B$9)))/24 -> 46320.042 | F27: =IF($B$5="NONE",FALSE,IF($B$10>$B$16,OR(A27>=D27,A27<E27),AND(A27>=D27,A27<E27))) -> FALSE | G27: =IF($B$5="NONE",FALSE,IF($B$10>$B$16,OR(B27>=D27,B27<E27),AND(B27>=D27,B27<E27))) -> FALSE | H27: =A27+($B$4+IF(F27,$B$9,0))/24 -> 46324.583 | I27: =B27+($B$4+IF(G27,$B$9,0))/24 -> 46324.618 | J27: =IF($B$2,TEXT(HOUR(H27),"00")&":"&TEXT(MINUTE(H27),"00"),TEXT(MOD(HOUR(H27)+11,12)+1,"0")&":"&TEXT(MINUTE(H27),"00")&IF(HOUR(H27)<12," am"," pm")) -> 14:00 | K27: =IF($B$2,TEXT(HOUR(I27),"00")&":"&TEXT(MINUTE(I27),"00"),TEXT(MOD(HOUR(I27)+11,12)+1,"0")&":"&TEXT(MINUTE(I27),"00")&IF(HOUR(I27)<12," am"," pm")) -> 14:50 | L27: =IF(INT(H27)<>INT(H26),INDEX({"Sun","Mon","Tue","Wed","Thu","Fri","Sat"},WEEKDAY(H27,1))&" "&TEXT(DAY(H27),"0")&" "&INDEX({"Jan","Feb","Mar","Apr","May","Jun","Jul","Aug","Sep","Oct","Nov","Dec"},MONTH(H27))&" ","") | M27: =IF(F27<>G27," (clocks change during this session)","") | N27: =IF('Program (UTC)'!$E5="","",IFERROR(IF(INDEX(Links!#REF!,MATCH('Program (UTC)'!$E5,Links!#REF!,0))="","",INDEX(Links!#REF!,MATCH('Program (UTC)'!$E5,Links!#REF!,0))),"")) | O27: =IF('Program (UTC)'!$F5="","",IFERROR(IF(INDEX(Links!#REF!,MATCH('Program (UTC)'!$F5,Links!#REF!,0))="","",INDEX(Links!#REF!,MATCH('Program (UTC)'!$F5,Links!#REF!,0))),"")) | P27: =IF('Program (UTC)'!$G5="","",IFERROR(IF(INDEX(Links!#REF!,MATCH('Program (UTC)'!$G5,Links!#REF!,0))="","",INDEX(Links!#REF!,MATCH('Program (UTC)'!$G5,Links!#REF!,0))),"")) | Q27: =IF('Program (UTC)'!$H5="","",IFERROR(IF(INDEX(Links!#REF!,MATCH('Program (UTC)'!$H5,Links!#REF!,0))="","",INDEX(Links!#REF!,MATCH('Program (UTC)'!$H5,Links!#REF!,0))),"")) | R27: =IF('Program (UTC)'!$E5="","",IF(N27<>"",N27,IF(Links!$B$6="","",Links!$B$6))) | S27: =IF('Program (UTC)'!$F5="","",IF(O27<>"",O27,IF(Links!$B$7="","",Links!$B$7))) | T27: =IF('Program (UTC)'!$G5="","",IF(P27<>"",P27,IF(Links!$B$8="","",Links!$B$8))) | U27: =IF('Program (UTC)'!$H5="","",IF(Q27<>"",Q27,IF(Links!$B$9="","",Links!$B$9)))
A28: ='Program (UTC)'!$A6+'Program (UTC)'!$B6 -> 46324.583 | B28: =A28+'Program (UTC)'!$C6/1440 -> 46324.604 | C28: =YEAR(A28) -> 2026 | D28: =(IF($B$11=5,EOMONTH(DATE($C28,$B$10,1),0)-MOD(WEEKDAY(EOMONTH(DATE($C28,$B$10,1),0),1)-$B$12+7,7),DATE($C28,$B$10,1)+MOD($B$12-WEEKDAY(DATE($C28,$B$10,1),1)+7,7)+7*($B$11-1))+$B$13)+($B$14-IF($B$15="UTC",0,IF($B$15="STD",$B$4,$B$4+$B$9)))/24 -> 46110.042 | E28: =(IF($B$17=5,EOMONTH(DATE($C28,$B$16,1),0)-MOD(WEEKDAY(EOMONTH(DATE($C28,$B$16,1),0),1)-$B$18+7,7),DATE($C28,$B$16,1)+MOD($B$18-WEEKDAY(DATE($C28,$B$16,1),1)+7,7)+7*($B$17-1))+$B$19)+($B$20-IF($B$21="UTC",0,IF($B$21="STD",$B$4,$B$4+$B$9)))/24 -> 46320.042 | F28: =IF($B$5="NONE",FALSE,IF($B$10>$B$16,OR(A28>=D28,A28<E28),AND(A28>=D28,A28<E28))) -> FALSE | G28: =IF($B$5="NONE",FALSE,IF($B$10>$B$16,OR(B28>=D28,B28<E28),AND(B28>=D28,B28<E28))) -> FALSE | H28: =A28+($B$4+IF(F28,$B$9,0))/24 -> 46324.625 | I28: =B28+($B$4+IF(G28,$B$9,0))/24 -> 46324.646 | J28: =IF($B$2,TEXT(HOUR(H28),"00")&":"&TEXT(MINUTE(H28),"00"),TEXT(MOD(HOUR(H28)+11,12)+1,"0")&":"&TEXT(MINUTE(H28),"00")&IF(HOUR(H28)<12," am"," pm")) -> 15:00 | K28: =IF($B$2,TEXT(HOUR(I28),"00")&":"&TEXT(MINUTE(I28),"00"),TEXT(MOD(HOUR(I28)+11,12)+1,"0")&":"&TEXT(MINUTE(I28),"00")&IF(HOUR(I28)<12," am"," pm")) -> 15:30 | L28: =IF(INT(H28)<>INT(H27),INDEX({"Sun","Mon","Tue","Wed","Thu","Fri","Sat"},WEEKDAY(H28,1))&" "&TEXT(DAY(H28),"0")&" "&INDEX({"Jan","Feb","Mar","Apr","May","Jun","Jul","Aug","Sep","Oct","Nov","Dec"},MONTH(H28))&" ","") | M28: =IF(F28<>G28," (clocks change during this session)","") | N28: =IF('Program (UTC)'!$E6="","",IFERROR(IF(INDEX(Links!#REF!,MATCH('Program (UTC)'!$E6,Links!#REF!,0))="","",INDEX(Links!#REF!,MATCH('Program (UTC)'!$E6,Links!#REF!,0))),"")) | O28: =IF('Program (UTC)'!$F6="","",IFERROR(IF(INDEX(Links!#REF!,MATCH('Program (UTC)'!$F6,Links!#REF!,0))="","",INDEX(Links!#REF!,MATCH('Program (UTC)'!$F6,Links!#REF!,0))),"")) | P28: =IF('Program (UTC)'!$G6="","",IFERROR(IF(INDEX(Links!#REF!,MATCH('Program (UTC)'!$G6,Links!#REF!,0))="","",INDEX(Links!#REF!,MATCH('Program (UTC)'!$G6,Links!#REF!,0))),"")) | Q28: =IF('Program (UTC)'!$H6="","",IFERROR(IF(INDEX(Links!#REF!,MATCH('Program (UTC)'!$H6,Links!#REF!,0))="","",INDEX(Links!#REF!,MATCH('Program (UTC)'!$H6,Links!#REF!,0))),"")) | R28: =IF('Program (UTC)'!$E6="","",IF(N28<>"",N28,IF(Links!$B$6="","",Links!$B$6))) -> https://us06web.zoom.us/j/83328044957?pwd=aZ7BPnByhyz0PAbDZVePTNA8Lx0aeS.1 | S28: =IF('Program (UTC)'!$F6="","",IF(O28<>"",O28,IF(Links!$B$7="","",Links!$B$7))) -> https://us06web.zoom.us/j/83584043063?pwd=jCtglL3abPJjT8G7hkqM0bZcCens5V.1 | T28: =IF('Program (UTC)'!$G6="","",IF(P28<>"",P28,IF(Links!$B$8="","",Links!$B$8))) -> https://us06web.zoom.us/j/82664554252?pwd=3w0yR8wFzav06Rgnxo87j3FZVtcKoH.1 | U28: =IF('Program (UTC)'!$H6="","",IF(Q28<>"",Q28,IF(Links!$B$9="","",Links!$B$9)))
A29: ='Program (UTC)'!$A7+'Program (UTC)'!$B7 -> 46324.611 | B29: =A29+'Program (UTC)'!$C7/1440 -> 46324.632 | C29: =YEAR(A29) -> 2026 | D29: =(IF($B$11=5,EOMONTH(DATE($C29,$B$10,1),0)-MOD(WEEKDAY(EOMONTH(DATE($C29,$B$10,1),0),1)-$B$12+7,7),DATE($C29,$B$10,1)+MOD($B$12-WEEKDAY(DATE($C29,$B$10,1),1)+7,7)+7*($B$11-1))+$B$13)+($B$14-IF($B$15="UTC",0,IF($B$15="STD",$B$4,$B$4+$B$9)))/24 -> 46110.042 | E29: =(IF($B$17=5,EOMONTH(DATE($C29,$B$16,1),0)-MOD(WEEKDAY(EOMONTH(DATE($C29,$B$16,1),0),1)-$B$18+7,7),DATE($C29,$B$16,1)+MOD($B$18-WEEKDAY(DATE($C29,$B$16,1),1)+7,7)+7*($B$17-1))+$B$19)+($B$20-IF($B$21="UTC",0,IF($B$21="STD",$B$4,$B$4+$B$9)))/24 -> 46320.042 | F29: =IF($B$5="NONE",FALSE,IF($B$10>$B$16,OR(A29>=D29,A29<E29),AND(A29>=D29,A29<E29))) -> FALSE | G29: =IF($B$5="NONE",FALSE,IF($B$10>$B$16,OR(B29>=D29,B29<E29),AND(B29>=D29,B29<E29))) -> FALSE | H29: =A29+($B$4+IF(F29,$B$9,0))/24 -> 46324.653 | I29: =B29+($B$4+IF(G29,$B$9,0))/24 -> 46324.674 | J29: =IF($B$2,TEXT(HOUR(H29),"00")&":"&TEXT(MINUTE(H29),"00"),TEXT(MOD(HOUR(H29)+11,12)+1,"0")&":"&TEXT(MINUTE(H29),"00")&IF(HOUR(H29)<12," am"," pm")) -> 15:40 | K29: =IF($B$2,TEXT(HOUR(I29),"00")&":"&TEXT(MINUTE(I29),"00"),TEXT(MOD(HOUR(I29)+11,12)+1,"0")&":"&TEXT(MINUTE(I29),"00")&IF(HOUR(I29)<12," am"," pm")) -> 16:10 | L29: =IF(INT(H29)<>INT(H28),INDEX({"Sun","Mon","Tue","Wed","Thu","Fri","Sat"},WEEKDAY(H29,1))&" "&TEXT(DAY(H29),"0")&" "&INDEX({"Jan","Feb","Mar","Apr","May","Jun","Jul","Aug","Sep","Oct","Nov","Dec"},MONTH(H29))&" ","") | M29: =IF(F29<>G29," (clocks change during this session)","") | N29: =IF('Program (UTC)'!$E7="","",IFERROR(IF(INDEX(Links!#REF!,MATCH('Program (UTC)'!$E7,Links!#REF!,0))="","",INDEX(Links!#REF!,MATCH('Program (UTC)'!$E7,Links!#REF!,0))),"")) | O29: =IF('Program (UTC)'!$F7="","",IFERROR(IF(INDEX(Links!#REF!,MATCH('Program (UTC)'!$F7,Links!#REF!,0))="","",INDEX(Links!#REF!,MATCH('Program (UTC)'!$F7,Links!#REF!,0))),"")) | P29: =IF('Program (UTC)'!$G7="","",IFERROR(IF(INDEX(Links!#REF!,MATCH('Program (UTC)'!$G7,Links!#REF!,0))="","",INDEX(Links!#REF!,MATCH('Program (UTC)'!$G7,Links!#REF!,0))),"")) | Q29: =IF('Program (UTC)'!$H7="","",IFERROR(IF(INDEX(Links!#REF!,MATCH('Program (UTC)'!$H7,Links!#REF!,0))="","",INDEX(Links!#REF!,MATCH('Program (UTC)'!$H7,Links!#REF!,0))),"")) | R29: =IF('Program (UTC)'!$E7="","",IF(N29<>"",N29,IF(Links!$B$6="","",Links!$B$6))) -> https://us06web.zoom.us/j/83328044957?pwd=aZ7BPnByhyz0PAbDZVePTNA8Lx0aeS.1 | S29: =IF('Program (UTC)'!$F7="","",IF(O29<>"",O29,IF(Links!$B$7="","",Links!$B$7))) -> https://us06web.zoom.us/j/83584043063?pwd=jCtglL3abPJjT8G7hkqM0bZcCens5V.1 | T29: =IF('Program (UTC)'!$G7="","",IF(P29<>"",P29,IF(Links!$B$8="","",Links!$B$8))) -> https://us06web.zoom.us/j/82664554252?pwd=3w0yR8wFzav06Rgnxo87j3FZVtcKoH.1 | U29: =IF('Program (UTC)'!$H7="","",IF(Q29<>"",Q29,IF(Links!$B$9="","",Links!$B$9))) -> https://us06web.zoom.us/j/89027205538?pwd=OImSBiaCEAgADybEUCETlCL250EPBS.1
A30: ='Program (UTC)'!$A8+'Program (UTC)'!$B8 -> 46324.639 | B30: =A30+'Program (UTC)'!$C8/1440 -> 46324.66 | C30: =YEAR(A30) -> 2026 | D30: =(IF($B$11=5,EOMONTH(DATE($C30,$B$10,1),0)-MOD(WEEKDAY(EOMONTH(DATE($C30,$B$10,1),0),1)-$B$12+7,7),DATE($C30,$B$10,1)+MOD($B$12-WEEKDAY(DATE($C30,$B$10,1),1)+7,7)+7*($B$11-1))+$B$13)+($B$14-IF($B$15="UTC",0,IF($B$15="STD",$B$4,$B$4+$B$9)))/24 -> 46110.042 | E30: =(IF($B$17=5,EOMONTH(DATE($C30,$B$16,1),0)-MOD(WEEKDAY(EOMONTH(DATE($C30,$B$16,1),0),1)-$B$18+7,7),DATE($C30,$B$16,1)+MOD($B$18-WEEKDAY(DATE($C30,$B$16,1),1)+7,7)+7*($B$17-1))+$B$19)+($B$20-IF($B$21="UTC",0,IF($B$21="STD",$B$4,$B$4+$B$9)))/24 -> 46320.042 | F30: =IF($B$5="NONE",FALSE,IF($B$10>$B$16,OR(A30>=D30,A30<E30),AND(A30>=D30,A30<E30))) -> FALSE | G30: =IF($B$5="NONE",FALSE,IF($B$10>$B$16,OR(B30>=D30,B30<E30),AND(B30>=D30,B30<E30))) -> FALSE | H30: =A30+($B$4+IF(F30,$B$9,0))/24 -> 46324.681 | I30: =B30+($B$4+IF(G30,$B$9,0))/24 -> 46324.701 | J30: =IF($B$2,TEXT(HOUR(H30),"00")&":"&TEXT(MINUTE(H30),"00"),TEXT(MOD(HOUR(H30)+11,12)+1,"0")&":"&TEXT(MINUTE(H30),"00")&IF(HOUR(H30)<12," am"," pm")) -> 16:20 | K30: =IF($B$2,TEXT(HOUR(I30),"00")&":"&TEXT(MINUTE(I30),"00"),TEXT(MOD(HOUR(I30)+11,12)+1,"0")&":"&TEXT(MINUTE(I30),"00")&IF(HOUR(I30)<12," am"," pm")) -> 16:50 | L30: =IF(INT(H30)<>INT(H29),INDEX({"Sun","Mon","Tue","Wed","Thu","Fri","Sat"},WEEKDAY(H30,1))&" "&TEXT(DAY(H30),"0")&" "&INDEX({"Jan","Feb","Mar","Apr","May","Jun","Jul","Aug","Sep","Oct","Nov","Dec"},MONTH(H30))&" ","") | M30: =IF(F30<>G30," (clocks change during this session)","") | N30: =IF('Program (UTC)'!$E8="","",IFERROR(IF(INDEX(Links!#REF!,MATCH('Program (UTC)'!$E8,Links!#REF!,0))="","",INDEX(Links!#REF!,MATCH('Program (UTC)'!$E8,Links!#REF!,0))),"")) | O30: =IF('Program (UTC)'!$F8="","",IFERROR(IF(INDEX(Links!#REF!,MATCH('Program (UTC)'!$F8,Links!#REF!,0))="","",INDEX(Links!#REF!,MATCH('Program (UTC)'!$F8,Links!#REF!,0))),"")) | P30: =IF('Program (UTC)'!$G8="","",IFERROR(IF(INDEX(Links!#REF!,MATCH('Program (UTC)'!$G8,Links!#REF!,0))="","",INDEX(Links!#REF!,MATCH('Program (UTC)'!$G8,Links!#REF!,0))),"")) | Q30: =IF('Program (UTC)'!$H8="","",IFERROR(IF(INDEX(Links!#REF!,MATCH('Program (UTC)'!$H8,Links!#REF!,0))="","",INDEX(Links!#REF!,MATCH('Program (UTC)'!$H8,Links!#REF!,0))),"")) | R30: =IF('Program (UTC)'!$E8="","",IF(N30<>"",N30,IF(Links!$B$6="","",Links!$B$6))) -> https://us06web.zoom.us/j/83328044957?pwd=aZ7BPnByhyz0PAbDZVePTNA8Lx0aeS.1 | S30: =IF('Program (UTC)'!$F8="","",IF(O30<>"",O30,IF(Links!$B$7="","",Links!$B$7))) -> https://us06web.zoom.us/j/83584043063?pwd=jCtglL3abPJjT8G7hkqM0bZcCens5V.1 | T30: =IF('Program (UTC)'!$G8="","",IF(P30<>"",P30,IF(Links!$B$8="","",Links!$B$8))) -> https://us06web.zoom.us/j/82664554252?pwd=3w0yR8wFzav06Rgnxo87j3FZVtcKoH.1 | U30: =IF('Program (UTC)'!$H8="","",IF(Q30<>"",Q30,IF(Links!$B$9="","",Links!$B$9)))
A31: ='Program (UTC)'!$A9+'Program (UTC)'!$B9 -> 46324.667 | B31: =A31+'Program (UTC)'!$C9/1440 -> 46324.688 | C31: =YEAR(A31) -> 2026 | D31: =(IF($B$11=5,EOMONTH(DATE($C31,$B$10,1),0)-MOD(WEEKDAY(EOMONTH(DATE($C31,$B$10,1),0),1)-$B$12+7,7),DATE($C31,$B$10,1)+MOD($B$12-WEEKDAY(DATE($C31,$B$10,1),1)+7,7)+7*($B$11-1))+$B$13)+($B$14-IF($B$15="UTC",0,IF($B$15="STD",$B$4,$B$4+$B$9)))/24 -> 46110.042 | E31: =(IF($B$17=5,EOMONTH(DATE($C31,$B$16,1),0)-MOD(WEEKDAY(EOMONTH(DATE($C31,$B$16,1),0),1)-$B$18+7,7),DATE($C31,$B$16,1)+MOD($B$18-WEEKDAY(DATE($C31,$B$16,1),1)+7,7)+7*($B$17-1))+$B$19)+($B$20-IF($B$21="UTC",0,IF($B$21="STD",$B$4,$B$4+$B$9)))/24 -> 46320.042 | F31: =IF($B$5="NONE",FALSE,IF($B$10>$B$16,OR(A31>=D31,A31<E31),AND(A31>=D31,A31<E31))) -> FALSE | G31: =IF($B$5="NONE",FALSE,IF($B$10>$B$16,OR(B31>=D31,B31<E31),AND(B31>=D31,B31<E31))) -> FALSE | H31: =A31+($B$4+IF(F31,$B$9,0))/24 -> 46324.708 | I31: =B31+($B$4+IF(G31,$B$9,0))/24 -> 46324.729 | J31: =IF($B$2,TEXT(HOUR(H31),"00")&":"&TEXT(MINUTE(H31),"00"),TEXT(MOD(HOUR(H31)+11,12)+1,"0")&":"&TEXT(MINUTE(H31),"00")&IF(HOUR(H31)<12," am"," pm")) -> 17:00 | K31: =IF($B$2,TEXT(HOUR(I31),"00")&":"&TEXT(MINUTE(I31),"00"),TEXT(MOD(HOUR(I31)+11,12)+1,"0")&":"&TEXT(MINUTE(I31),"00")&IF(HOUR(I31)<12," am"," pm")) -> 17:30 | L31: =IF(INT(H31)<>INT(H30),INDEX({"Sun","Mon","Tue","Wed","Thu","Fri","Sat"},WEEKDAY(H31,1))&" "&TEXT(DAY(H31),"0")&" "&INDEX({"Jan","Feb","Mar","Apr","May","Jun","Jul","Aug","Sep","Oct","Nov","Dec"},MONTH(H31))&" ","") | M31: =IF(F31<>G31," (clocks change during this session)","") | N31: =IF('Program (UTC)'!$E9="","",IFERROR(IF(INDEX(Links!#REF!,MATCH('Program (UTC)'!$E9,Links!#REF!,0))="","",INDEX(Links!#REF!,MATCH('Program (UTC)'!$E9,Links!#REF!,0))),"")) | O31: =IF('Program (UTC)'!$F9="","",IFERROR(IF(INDEX(Links!#REF!,MATCH('Program (UTC)'!$F9,Links!#REF!,0))="","",INDEX(Links!#REF!,MATCH('Program (UTC)'!$F9,Links!#REF!,0))),"")) | P31: =IF('Program (UTC)'!$G9="","",IFERROR(IF(INDEX(Links!#REF!,MATCH('Program (UTC)'!$G9,Links!#REF!,0))="","",INDEX(Links!#REF!,MATCH('Program (UTC)'!$G9,Links!#REF!,0))),"")) | Q31: =IF('Program (UTC)'!$H9="","",IFERROR(IF(INDEX(Links!#REF!,MATCH('Program (UTC)'!$H9,Links!#REF!,0))="","",INDEX(Links!#REF!,MATCH('Program (UTC)'!$H9,Links!#REF!,0))),"")) | R31: =IF('Program (UTC)'!$E9="","",IF(N31<>"",N31,IF(Links!$B$6="","",Links!$B$6))) -> https://us06web.zoom.us/j/83328044957?pwd=aZ7BPnByhyz0PAbDZVePTNA8Lx0aeS.1 | S31: =IF('Program (UTC)'!$F9="","",IF(O31<>"",O31,IF(Links!$B$7="","",Links!$B$7))) -> https://us06web.zoom.us/j/83584043063?pwd=jCtglL3abPJjT8G7hkqM0bZcCens5V.1 | T31: =IF('Program (UTC)'!$G9="","",IF(P31<>"",P31,IF(Links!$B$8="","",Links!$B$8))) -> https://us06web.zoom.us/j/82664554252?pwd=3w0yR8wFzav06Rgnxo87j3FZVtcKoH.1 | U31: =IF('Program (UTC)'!$H9="","",IF(Q31<>"",Q31,IF(Links!$B$9="","",Links!$B$9))) -> https://us06web.zoom.us/j/89027205538?pwd=OImSBiaCEAgADybEUCETlCL250EPBS.1
A32: ='Program (UTC)'!$A10+'Program (UTC)'!$B10 -> 46324.688 | B32: =A32+'Program (UTC)'!$C10/1440 -> 46324.708 | C32: =YEAR(A32) -> 2026 | D32: =(IF($B$11=5,EOMONTH(DATE($C32,$B$10,1),0)-MOD(WEEKDAY(EOMONTH(DATE($C32,$B$10,1),0),1)-$B$12+7,7),DATE($C32,$B$10,1)+MOD($B$12-WEEKDAY(DATE($C32,$B$10,1),1)+7,7)+7*($B$11-1))+$B$13)+($B$14-IF($B$15="UTC",0,IF($B$15="STD",$B$4,$B$4+$B$9)))/24 -> 46110.042 | E32: =(IF($B$17=5,EOMONTH(DATE($C32,$B$16,1),0)-MOD(WEEKDAY(EOMONTH(DATE($C32,$B$16,1),0),1)-$B$18+7,7),DATE($C32,$B$16,1)+MOD($B$18-WEEKDAY(DATE($C32,$B$16,1),1)+7,7)+7*($B$17-1))+$B$19)+($B$20-IF($B$21="UTC",0,IF($B$21="STD",$B$4,$B$4+$B$9)))/24 -> 46320.042 | F32: =IF($B$5="NONE",FALSE,IF($B$10>$B$16,OR(A32>=D32,A32<E32),AND(A32>=D32,A32<E32))) -> FALSE | G32: =IF($B$5="NONE",FALSE,IF($B$10>$B$16,OR(B32>=D32,B32<E32),AND(B32>=D32,B32<E32))) -> FALSE | H32: =A32+($B$4+IF(F32,$B$9,0))/24 -> 46324.729 | I32: =B32+($B$4+IF(G32,$B$9,0))/24 -> 46324.75 | J32: =IF($B$2,TEXT(HOUR(H32),"00")&":"&TEXT(MINUTE(H32),"00"),TEXT(MOD(HOUR(H32)+11,12)+1,"0")&":"&TEXT(MINUTE(H32),"00")&IF(HOUR(H32)<12," am"," pm")) -> 17:30 | K32: =IF($B$2,TEXT(HOUR(I32),"00")&":"&TEXT(MINUTE(I32),"00"),TEXT(MOD(HOUR(I32)+11,12)+1,"0")&":"&TEXT(MINUTE(I32),"00")&IF(HOUR(I32)<12," am"," pm")) -> 18:00 | L32: =IF(INT(H32)<>INT(H31),INDEX({"Sun","Mon","Tue","Wed","Thu","Fri","Sat"},WEEKDAY(H32,1))&" "&TEXT(DAY(H32),"0")&" "&INDEX({"Jan","Feb","Mar","Apr","May","Jun","Jul","Aug","Sep","Oct","Nov","Dec"},MONTH(H32))&" ","") | M32: =IF(F32<>G32," (clocks change during this session)","") | N32: =IF('Program (UTC)'!$E10="","",IFERROR(IF(INDEX(Links!#REF!,MATCH('Program (UTC)'!$E10,Links!#REF!,0))="","",INDEX(Links!#REF!,MATCH('Program (UTC)'!$E10,Links!#REF!,0))),"")) | O32: =IF('Program (UTC)'!$F10="","",IFERROR(IF(INDEX(Links!#REF!,MATCH('Program (UTC)'!$F10,Links!#REF!,0))="","",INDEX(Links!#REF!,MATCH('Program (UTC)'!$F10,Links!#REF!,0))),"")) | P32: =IF('Program (UTC)'!$G10="","",IFERROR(IF(INDEX(Links!#REF!,MATCH('Program (UTC)'!$G10,Links!#REF!,0))="","",INDEX(Links!#REF!,MATCH('Program (UTC)'!$G10,Links!#REF!,0))),"")) | Q32: =IF('Program (UTC)'!$H10="","",IFERROR(IF(INDEX(Links!#REF!,MATCH('Program (UTC)'!$H10,Links!#REF!,0))="","",INDEX(Links!#REF!,MATCH('Program (UTC)'!$H10,Links!#REF!,0))),"")) | R32: =IF('Program (UTC)'!$E10="","",IF(N32<>"",N32,IF(Links!$B$6="","",Links!$B$6))) | S32: =IF('Program (UTC)'!$F10="","",IF(O32<>"",O32,IF(Links!$B$7="","",Links!$B$7))) | T32: =IF('Program (UTC)'!$G10="","",IF(P32<>"",P32,IF(Links!$B$8="","",Links!$B$8))) | U32: =IF('Program (UTC)'!$H10="","",IF(Q32<>"",Q32,IF(Links!$B$9="","",Links!$B$9)))
A33: ='Program (UTC)'!$A11+'Program (UTC)'!$B11 -> 46324.708 | B33: =A33+'Program (UTC)'!$C11/1440 -> 46324.729 | C33: =YEAR(A33) -> 2026 | D33: =(IF($B$11=5,EOMONTH(DATE($C33,$B$10,1),0)-MOD(WEEKDAY(EOMONTH(DATE($C33,$B$10,1),0),1)-$B$12+7,7),DATE($C33,$B$10,1)+MOD($B$12-WEEKDAY(DATE($C33,$B$10,1),1)+7,7)+7*($B$11-1))+$B$13)+($B$14-IF($B$15="UTC",0,IF($B$15="STD",$B$4,$B$4+$B$9)))/24 -> 46110.042 | E33: =(IF($B$17=5,EOMONTH(DATE($C33,$B$16,1),0)-MOD(WEEKDAY(EOMONTH(DATE($C33,$B$16,1),0),1)-$B$18+7,7),DATE($C33,$B$16,1)+MOD($B$18-WEEKDAY(DATE($C33,$B$16,1),1)+7,7)+7*($B$17-1))+$B$19)+($B$20-IF($B$21="UTC",0,IF($B$21="STD",$B$4,$B$4+$B$9)))/24 -> 46320.042 | F33: =IF($B$5="NONE",FALSE,IF($B$10>$B$16,OR(A33>=D33,A33<E33),AND(A33>=D33,A33<E33))) -> FALSE | G33: =IF($B$5="NONE",FALSE,IF($B$10>$B$16,OR(B33>=D33,B33<E33),AND(B33>=D33,B33<E33))) -> FALSE | H33: =A33+($B$4+IF(F33,$B$9,0))/24 -> 46324.75 | I33: =B33+($B$4+IF(G33,$B$9,0))/24 -> 46324.771 | J33: =IF($B$2,TEXT(HOUR(H33),"00")&":"&TEXT(MINUTE(H33),"00"),TEXT(MOD(HOUR(H33)+11,12)+1,"0")&":"&TEXT(MINUTE(H33),"00")&IF(HOUR(H33)<12," am"," pm")) -> 18:00 | K33: =IF($B$2,TEXT(HOUR(I33),"00")&":"&TEXT(MINUTE(I33),"00"),TEXT(MOD(HOUR(I33)+11,12)+1,"0")&":"&TEXT(MINUTE(I33),"00")&IF(HOUR(I33)<12," am"," pm")) -> 18:30 | L33: =IF(INT(H33)<>INT(H32),INDEX({"Sun","Mon","Tue","Wed","Thu","Fri","Sat"},WEEKDAY(H33,1))&" "&TEXT(DAY(H33),"0")&" "&INDEX({"Jan","Feb","Mar","Apr","May","Jun","Jul","Aug","Sep","Oct","Nov","Dec"},MONTH(H33))&" ","") | M33: =IF(F33<>G33," (clocks change during this session)","") | N33: =IF('Program (UTC)'!$E11="","",IFERROR(IF(INDEX(Links!#REF!,MATCH('Program (UTC)'!$E11,Links!#REF!,0))="","",INDEX(Links!#REF!,MATCH('Program (UTC)'!$E11,Links!#REF!,0))),"")) | O33: =IF('Program (UTC)'!$F11="","",IFERROR(IF(INDEX(Links!#REF!,MATCH('Program (UTC)'!$F11,Links!#REF!,0))="","",INDEX(Links!#REF!,MATCH('Program (UTC)'!$F11,Links!#REF!,0))),"")) | P33: =IF('Program (UTC)'!$G11="","",IFERROR(IF(INDEX(Links!#REF!,MATCH('Program (UTC)'!$G11,Links!#REF!,0))="","",INDEX(Links!#REF!,MATCH('Program (UTC)'!$G11,Links!#REF!,0))),"")) | Q33: =IF('Program (UTC)'!$H11="","",IFERROR(IF(INDEX(Links!#REF!,MATCH('Program (UTC)'!$H11,Links!#REF!,0))="","",INDEX(Links!#REF!,MATCH('Program (UTC)'!$H11,Links!#REF!,0))),"")) | R33: =IF('Program (UTC)'!$E11="","",IF(N33<>"",N33,IF(Links!$B$6="","",Links!$B$6))) -> https://us06web.zoom.us/j/83328044957?pwd=aZ7BPnByhyz0PAbDZVePTNA8Lx0aeS.1 | S33: =IF('Program (UTC)'!$F11="","",IF(O33<>"",O33,IF(Links!$B$7="","",Links!$B$7))) -> https://us06web.zoom.us/j/83584043063?pwd=jCtglL3abPJjT8G7hkqM0bZcCens5V.1 | T33: =IF('Program (UTC)'!$G11="","",IF(P33<>"",P33,IF(Links!$B$8="","",Links!$B$8))) -> https://us06web.zoom.us/j/82664554252?pwd=3w0yR8wFzav06Rgnxo87j3FZVtcKoH.1 | U33: =IF('Program (UTC)'!$H11="","",IF(Q33<>"",Q33,IF(Links!$B$9="","",Links!$B$9)))
A34: ='Program (UTC)'!$A12+'Program (UTC)'!$B12 -> 46324.736 | B34: =A34+'Program (UTC)'!$C12/1440 -> 46324.757 | C34: =YEAR(A34) -> 2026 | D34: =(IF($B$11=5,EOMONTH(DATE($C34,$B$10,1),0)-MOD(WEEKDAY(EOMONTH(DATE($C34,$B$10,1),0),1)-$B$12+7,7),DATE($C34,$B$10,1)+MOD($B$12-WEEKDAY(DATE($C34,$B$10,1),1)+7,7)+7*($B$11-1))+$B$13)+($B$14-IF($B$15="UTC",0,IF($B$15="STD",$B$4,$B$4+$B$9)))/24 -> 46110.042 | E34: =(IF($B$17=5,EOMONTH(DATE($C34,$B$16,1),0)-MOD(WEEKDAY(EOMONTH(DATE($C34,$B$16,1),0),1)-$B$18+7,7),DATE($C34,$B$16,1)+MOD($B$18-WEEKDAY(DATE($C34,$B$16,1),1)+7,7)+7*($B$17-1))+$B$19)+($B$20-IF($B$21="UTC",0,IF($B$21="STD",$B$4,$B$4+$B$9)))/24 -> 46320.042 | F34: =IF($B$5="NONE",FALSE,IF($B$10>$B$16,OR(A34>=D34,A34<E34),AND(A34>=D34,A34<E34))) -> FALSE | G34: =IF($B$5="NONE",FALSE,IF($B$10>$B$16,OR(B34>=D34,B34<E34),AND(B34>=D34,B34<E34))) -> FALSE | H34: =A34+($B$4+IF(F34,$B$9,0))/24 -> 46324.778 | I34: =B34+($B$4+IF(G34,$B$9,0))/24 -> 46324.799 | J34: =IF($B$2,TEXT(HOUR(H34),"00")&":"&TEXT(MINUTE(H34),"00"),TEXT(MOD(HOUR(H34)+11,12)+1,"0")&":"&TEXT(MINUTE(H34),"00")&IF(HOUR(H34)<12," am"," pm")) -> 18:40 | K34: =IF($B$2,TEXT(HOUR(I34),"00")&":"&TEXT(MINUTE(I34),"00"),TEXT(MOD(HOUR(I34)+11,12)+1,"0")&":"&TEXT(MINUTE(I34),"00")&IF(HOUR(I34)<12," am"," pm")) -> 19:10 | L34: =IF(INT(H34)<>INT(H33),INDEX({"Sun","Mon","Tue","Wed","Thu","Fri","Sat"},WEEKDAY(H34,1))&" "&TEXT(DAY(H34),"0")&" "&INDEX({"Jan","Feb","Mar","Apr","May","Jun","Jul","Aug","Sep","Oct","Nov","Dec"},MONTH(H34))&" ","") | M34: =IF(F34<>G34," (clocks change during this session)","") | N34: =IF('Program (UTC)'!$E12="","",IFERROR(IF(INDEX(Links!#REF!,MATCH('Program (UTC)'!$E12,Links!#REF!,0))="","",INDEX(Links!#REF!,MATCH('Program (UTC)'!$E12,Links!#REF!,0))),"")) | O34: =IF('Program (UTC)'!$F12="","",IFERROR(IF(INDEX(Links!#REF!,MATCH('Program (UTC)'!$F12,Links!#REF!,0))="","",INDEX(Links!#REF!,MATCH('Program (UTC)'!$F12,Links!#REF!,0))),"")) | P34: =IF('Program (UTC)'!$G12="","",IFERROR(IF(INDEX(Links!#REF!,MATCH('Program (UTC)'!$G12,Links!#REF!,0))="","",INDEX(Links!#REF!,MATCH('Program (UTC)'!$G12,Links!#REF!,0))),"")) | Q34: =IF('Program (UTC)'!$H12="","",IFERROR(IF(INDEX(Links!#REF!,MATCH('Program (UTC)'!$H12,Links!#REF!,0))="","",INDEX(Links!#REF!,MATCH('Program (UTC)'!$H12,Links!#REF!,0))),"")) | R34: =IF('Program (UTC)'!$E12="","",IF(N34<>"",N34,IF(Links!$B$6="","",Links!$B$6))) -> https://us06web.zoom.us/j/83328044957?pwd=aZ7BPnByhyz0PAbDZVePTNA8Lx0aeS.1 | S34: =IF('Program (UTC)'!$F12="","",IF(O34<>"",O34,IF(Links!$B$7="","",Links!$B$7))) -> https://us06web.zoom.us/j/83584043063?pwd=jCtglL3abPJjT8G7hkqM0bZcCens5V.1 | T34: =IF('Program (UTC)'!$G12="","",IF(P34<>"",P34,IF(Links!$B$8="","",Links!$B$8))) -> https://us06web.zoom.us/j/82664554252?pwd=3w0yR8wFzav06Rgnxo87j3FZVtcKoH.1 | U34: =IF('Program (UTC)'!$H12="","",IF(Q34<>"",Q34,IF(Links!$B$9="","",Links!$B$9)))
A35: ='Program (UTC)'!$A13+'Program (UTC)'!$B13 -> 46324.764 | B35: =A35+'Program (UTC)'!$C13/1440 -> 46324.785 | C35: =YEAR(A35) -> 2026 | D35: =(IF($B$11=5,EOMONTH(DATE($C35,$B$10,1),0)-MOD(WEEKDAY(EOMONTH(DATE($C35,$B$10,1),0),1)-$B$12+7,7),DATE($C35,$B$10,1)+MOD($B$12-WEEKDAY(DATE($C35,$B$10,1),1)+7,7)+7*($B$11-1))+$B$13)+($B$14-IF($B$15="UTC",0,IF($B$15="STD",$B$4,$B$4+$B$9)))/24 -> 46110.042 | E35: =(IF($B$17=5,EOMONTH(DATE($C35,$B$16,1),0)-MOD(WEEKDAY(EOMONTH(DATE($C35,$B$16,1),0),1)-$B$18+7,7),DATE($C35,$B$16,1)+MOD($B$18-WEEKDAY(DATE($C35,$B$16,1),1)+7,7)+7*($B$17-1))+$B$19)+($B$20-IF($B$21="UTC",0,IF($B$21="STD",$B$4,$B$4+$B$9)))/24 -> 46320.042 | F35: =IF($B$5="NONE",FALSE,IF($B$10>$B$16,OR(A35>=D35,A35<E35),AND(A35>=D35,A35<E35))) -> FALSE | G35: =IF($B$5="NONE",FALSE,IF($B$10>$B$16,OR(B35>=D35,B35<E35),AND(B35>=D35,B35<E35))) -> FALSE | H35: =A35+($B$4+IF(F35,$B$9,0))/24 -> 46324.806 | I35: =B35+($B$4+IF(G35,$B$9,0))/24 -> 46324.826 | J35: =IF($B$2,TEXT(HOUR(H35),"00")&":"&TEXT(MINUTE(H35),"00"),TEXT(MOD(HOUR(H35)+11,12)+1,"0")&":"&TEXT(MINUTE(H35),"00")&IF(HOUR(H35)<12," am"," pm")) -> 19:20 | K35: =IF($B$2,TEXT(HOUR(I35),"00")&":"&TEXT(MINUTE(I35),"00"),TEXT(MOD(HOUR(I35)+11,12)+1,"0")&":"&TEXT(MINUTE(I35),"00")&IF(HOUR(I35)<12," am"," pm")) -> 19:50 | L35: =IF(INT(H35)<>INT(H34),INDEX({"Sun","Mon","Tue","Wed","Thu","Fri","Sat"},WEEKDAY(H35,1))&" "&TEXT(DAY(H35),"0")&" "&INDEX({"Jan","Feb","Mar","Apr","May","Jun","Jul","Aug","Sep","Oct","Nov","Dec"},MONTH(H35))&" ","") | M35: =IF(F35<>G35," (clocks change during this session)","") | N35: =IF('Program (UTC)'!$E13="","",IFERROR(IF(INDEX(Links!#REF!,MATCH('Program (UTC)'!$E13,Links!#REF!,0))="","",INDEX(Links!#REF!,MATCH('Program (UTC)'!$E13,Links!#REF!,0))),"")) | O35: =IF('Program (UTC)'!$F13="","",IFERROR(IF(INDEX(Links!#REF!,MATCH('Program (UTC)'!$F13,Links!#REF!,0))="","",INDEX(Links!#REF!,MATCH('Program (UTC)'!$F13,Links!#REF!,0))),"")) | P35: =IF('Program (UTC)'!$G13="","",IFERROR(IF(INDEX(Links!#REF!,MATCH('Program (UTC)'!$G13,Links!#REF!,0))="","",INDEX(Links!#REF!,MATCH('Program (UTC)'!$G13,Links!#REF!,0))),"")) | Q35: =IF('Program (UTC)'!$H13="","",IFERROR(IF(INDEX(Links!#REF!,MATCH('Program (UTC)'!$H13,Links!#REF!,0))="","",INDEX(Links!#REF!,MATCH('Program (UTC)'!$H13,Links!#REF!,0))),"")) | R35: =IF('Program (UTC)'!$E13="","",IF(N35<>"",N35,IF(Links!$B$6="","",Links!$B$6))) -> https://us06web.zoom.us/j/83328044957?pwd=aZ7BPnByhyz0PAbDZVePTNA8Lx0aeS.1 | S35: =IF('Program (UTC)'!$F13="","",IF(O35<>"",O35,IF(Links!$B$7="","",Links!$B$7))) -> https://us06web.zoom.us/j/83584043063?pwd=jCtglL3abPJjT8G7hkqM0bZcCens5V.1 | T35: =IF('Program (UTC)'!$G13="","",IF(P35<>"",P35,IF(Links!$B$8="","",Links!$B$8))) -> https://us06web.zoom.us/j/82664554252?pwd=3w0yR8wFzav06Rgnxo87j3FZVtcKoH.1 | U35: =IF('Program (UTC)'!$H13="","",IF(Q35<>"",Q35,IF(Links!$B$9="","",Links!$B$9))) -> https://us06web.zoom.us/j/89027205538?pwd=OImSBiaCEAgADybEUCETlCL250EPBS.1
A36: ='Program (UTC)'!$A14+'Program (UTC)'!$B14 -> 46324.792 | B36: =A36+'Program (UTC)'!$C14/1440 -> 46324.826 | C36: =YEAR(A36) -> 2026 | D36: =(IF($B$11=5,EOMONTH(DATE($C36,$B$10,1),0)-MOD(WEEKDAY(EOMONTH(DATE($C36,$B$10,1),0),1)-$B$12+7,7),DATE($C36,$B$10,1)+MOD($B$12-WEEKDAY(DATE($C36,$B$10,1),1)+7,7)+7*($B$11-1))+$B$13)+($B$14-IF($B$15="UTC",0,IF($B$15="STD",$B$4,$B$4+$B$9)))/24 -> 46110.042 | E36: =(IF($B$17=5,EOMONTH(DATE($C36,$B$16,1),0)-MOD(WEEKDAY(EOMONTH(DATE($C36,$B$16,1),0),1)-$B$18+7,7),DATE($C36,$B$16,1)+MOD($B$18-WEEKDAY(DATE($C36,$B$16,1),1)+7,7)+7*($B$17-1))+$B$19)+($B$20-IF($B$21="UTC",0,IF($B$21="STD",$B$4,$B$4+$B$9)))/24 -> 46320.042 | F36: =IF($B$5="NONE",FALSE,IF($B$10>$B$16,OR(A36>=D36,A36<E36),AND(A36>=D36,A36<E36))) -> FALSE | G36: =IF($B$5="NONE",FALSE,IF($B$10>$B$16,OR(B36>=D36,B36<E36),AND(B36>=D36,B36<E36))) -> FALSE | H36: =A36+($B$4+IF(F36,$B$9,0))/24 -> 46324.833 | I36: =B36+($B$4+IF(G36,$B$9,0))/24 -> 46324.868 | J36: =IF($B$2,TEXT(HOUR(H36),"00")&":"&TEXT(MINUTE(H36),"00"),TEXT(MOD(HOUR(H36)+11,12)+1,"0")&":"&TEXT(MINUTE(H36),"00")&IF(HOUR(H36)<12," am"," pm")) -> 20:00 | K36: =IF($B$2,TEXT(HOUR(I36),"00")&":"&TEXT(MINUTE(I36),"00"),TEXT(MOD(HOUR(I36)+11,12)+1,"0")&":"&TEXT(MINUTE(I36),"00")&IF(HOUR(I36)<12," am"," pm")) -> 20:50 | L36: =IF(INT(H36)<>INT(H35),INDEX({"Sun","Mon","Tue","Wed","Thu","Fri","Sat"},WEEKDAY(H36,1))&" "&TEXT(DAY(H36),"0")&" "&INDEX({"Jan","Feb","Mar","Apr","May","Jun","Jul","Aug","Sep","Oct","Nov","Dec"},MONTH(H36))&" ","") | M36: =IF(F36<>G36," (clocks change during this session)","") | N36: =IF('Program (UTC)'!$E14="","",IFERROR(IF(INDEX(Links!#REF!,MATCH('Program (UTC)'!$E14,Links!#REF!,0))="","",INDEX(Links!#REF!,MATCH('Program (UTC)'!$E14,Links!#REF!,0))),"")) | O36: =IF('Program (UTC)'!$F14="","",IFERROR(IF(INDEX(Links!#REF!,MATCH('Program (UTC)'!$F14,Links!#REF!,0))="","",INDEX(Links!#REF!,MATCH('Program (UTC)'!$F14,Links!#REF!,0))),"")) | P36: =IF('Program (UTC)'!$G14="","",IFERROR(IF(INDEX(Links!#REF!,MATCH('Program (UTC)'!$G14,Links!#REF!,0))="","",INDEX(Links!#REF!,MATCH('Program (UTC)'!$G14,Links!#REF!,0))),"")) | Q36: =IF('Program (UTC)'!$H14="","",IFERROR(IF(INDEX(Links!#REF!,MATCH('Program (UTC)'!$H14,Links!#REF!,0))="","",INDEX(Links!#REF!,MATCH('Program (UTC)'!$H14,Links!#REF!,0))),"")) | R36: =IF('Program (UTC)'!$E14="","",IF(N36<>"",N36,IF(Links!$B$6="","",Links!$B$6))) | S36: =IF('Program (UTC)'!$F14="","",IF(O36<>"",O36,IF(Links!$B$7="","",Links!$B$7))) | T36: =IF('Program (UTC)'!$G14="","",IF(P36<>"",P36,IF(Links!$B$8="","",Links!$B$8))) | U36: =IF('Program (UTC)'!$H14="","",IF(Q36<>"",Q36,IF(Links!$B$9="","",Links!$B$9)))
... A58: ='Program (UTC)'!$A36+'Program (UTC)'!$B36 -> 46325.417 | B58: =A58+'Program (UTC)'!$C36/1440 -> 46325.438 | C58: =YEAR(A58) -> 2026 | D58: =(IF($B$11=5,EOMONTH(DATE($C58,$B$10,1),0)-MOD(WEEKDAY(EOMONTH(DATE($C58,$B$10,1),0),1)-$B$12+7,7),DATE($C58,$B$10,1)+MOD($B$12-WEEKDAY(DATE($C58,$B$10,1),1)+7,7)+7*($B$11-1))+$B$13)+($B$14-IF($B$15="UTC",0,IF($B$15="STD",$B$4,$B$4+$B$9)))/24 -> 46110.042 | E58: =(IF($B$17=5,EOMONTH(DATE($C58,$B$16,1),0)-MOD(WEEKDAY(EOMONTH(DATE($C58,$B$16,1),0),1)-$B$18+7,7),DATE($C58,$B$16,1)+MOD($B$18-WEEKDAY(DATE($C58,$B$16,1),1)+7,7)+7*($B$17-1))+$B$19)+($B$20-IF($B$21="UTC",0,IF($B$21="STD",$B$4,$B$4+$B$9)))/24 -> 46320.042 | F58: =IF($B$5="NONE",FALSE,IF($B$10>$B$16,OR(A58>=D58,A58<E58),AND(A58>=D58,A58<E58))) -> FALSE | G58: =IF($B$5="NONE",FALSE,IF($B$10>$B$16,OR(B58>=D58,B58<E58),AND(B58>=D58,B58<E58))) -> FALSE | H58: =A58+($B$4+IF(F58,$B$9,0))/24 -> 46325.458 | I58: =B58+($B$4+IF(G58,$B$9,0))/24 -> 46325.479 | J58: =IF($B$2,TEXT(HOUR(H58),"00")&":"&TEXT(MINUTE(H58),"00"),TEXT(MOD(HOUR(H58)+11,12)+1,"0")&":"&TEXT(MINUTE(H58),"00")&IF(HOUR(H58)<12," am"," pm")) -> 11:00 | K58: =IF($B$2,TEXT(HOUR(I58),"00")&":"&TEXT(MINUTE(I58),"00"),TEXT(MOD(HOUR(I58)+11,12)+1,"0")&":"&TEXT(MINUTE(I58),"00")&IF(HOUR(I58)<12," am"," pm")) -> 11:30 | L58: =IF(INT(H58)<>INT(H57),INDEX({"Sun","Mon","Tue","Wed","Thu","Fri","Sat"},WEEKDAY(H58,1))&" "&TEXT(DAY(H58),"0")&" "&INDEX({"Jan","Feb","Mar","Apr","May","Jun","Jul","Aug","Sep","Oct","Nov","Dec"},MONTH(H58))&" ","") | M58: =IF(F58<>G58," (clocks change during this session)","") | N58: =IF('Program (UTC)'!$E36="","",IFERROR(IF(INDEX(Links!#REF!,MATCH('Program (UTC)'!$E36,Links!#REF!,0))="","",INDEX(Links!#REF!,MATCH('Program (UTC)'!$E36,Links!#REF!,0))),"")) | O58: =IF('Program (UTC)'!$F36="","",IFERROR(IF(INDEX(Links!#REF!,MATCH('Program (UTC)'!$F36,Links!#REF!,0))="","",INDEX(Links!#REF!,MATCH('Program (UTC)'!$F36,Links!#REF!,0))),"")) | P58: =IF('Program (UTC)'!$G36="","",IFERROR(IF(INDEX(Links!#REF!,MATCH('Program (UTC)'!$G36,Links!#REF!,0))="","",INDEX(Links!#REF!,MATCH('Program (UTC)'!$G36,Links!#REF!,0))),"")) | Q58: =IF('Program (UTC)'!$H36="","",IFERROR(IF(INDEX(Links!#REF!,MATCH('Program (UTC)'!$H36,Links!#REF!,0))="","",INDEX(Links!#REF!,MATCH('Program (UTC)'!$H36,Links!#REF!,0))),"")) | R58: =IF('Program (UTC)'!$E36="","",IF(N58<>"",N58,IF(Links!$B$6="","",Links!$B$6))) -> https://us06web.zoom.us/j/83328044957?pwd=aZ7BPnByhyz0PAbDZVePTNA8Lx0aeS.1 | S58: =IF('Program (UTC)'!$F36="","",IF(O58<>"",O58,IF(Links!$B$7="","",Links!$B$7))) -> https://us06web.zoom.us/j/83584043063?pwd=jCtglL3abPJjT8G7hkqM0bZcCens5V.1 | T58: =IF('Program (UTC)'!$G36="","",IF(P58<>"",P58,IF(Links!$B$8="","",Links!$B$8))) -> https://us06web.zoom.us/j/82664554252?pwd=3w0yR8wFzav06Rgnxo87j3FZVtcKoH.1 | U58: =IF('Program (UTC)'!$H36="","",IF(Q58<>"",Q58,IF(Links!$B$9="","",Links!$B$9)))
